BEGIN:VCALENDAR
VERSION:2.0
PRODID:-//ChamberMaster//Event Calendar 2.0//EN
METHOD:PUBLISH
X-PUBLISHED-TTL:P3D
REFRESH-INTERVAL:P3D
CALSCALE:GREGORIAN
BEGIN:VEVENT
DTSTART:20150523T142500Z
DTEND:20150523T163000Z
X-MICROSOFT-CDO-ALLDAYEVENT:FALSE
SUMMARY:Walking Tour: Landmarks of Historic Portsmouth
DESCRIPTION:Join historian Richard Candee and view major architectural features of the historic city.
X-ALT-DESC;FMTTYPE=text/html:Join historian Richard Candee and view major architectural features of the historic city.
LOCATION:Discover Portsmouth Center. 10 Middle St.
UID:e.1659.6912
SEQUENCE:3
DTSTAMP:20260419T213957Z
URL:https://calendar.goportsmouthnh.com/events/details/walking-tour-landmarks-of-historic-portsmouth-05-23-2015-6912
END:VEVENT

END:VCALENDAR
