BEGIN:VCALENDAR
VERSION:2.0
PRODID:-//ChamberMaster//Event Calendar 2.0//EN
METHOD:PUBLISH
X-PUBLISHED-TTL:P3D
REFRESH-INTERVAL:P3D
CALSCALE:GREGORIAN
BEGIN:VEVENT
DTSTART:20141120T230000Z
DTEND:20141121T013000Z
X-MICROSOFT-CDO-ALLDAYEVENT:FALSE
SUMMARY:Waddell & Reed 5th Annual Community Night
DESCRIPTION:Join us for our "Wine and Cheese with a Chocolate Tease" event! We will have a live and silent auction to benefit the Richie McFarland Children's Center. Your cost of admission? Simply bring a toy or dry food item to go toward the Seacoast Firefighters Toy Bank and End 68 Hours of Hunger. Enjoy the wine tasting\, have some food\, meet some folks and bid early and bid often.
X-ALT-DESC;FMTTYPE=text/html:Join us for our &quot\;Wine and Cheese with a Chocolate Tease&quot\; event! We will have a live and silent auction to benefit the Richie McFarland Children&#39\;s Center. Your cost of admission? Simply bring a toy or dry food item to go toward the Seacoast Firefighters Toy Bank and End 68 Hours of Hunger. Enjoy the wine tasting\, have some food\, meet some folks and bid early and bid often.
LOCATION:Portsmouth Country Club
UID:e.1659.4015
SEQUENCE:3
DTSTAMP:20260420T061557Z
URL:https://calendar.goportsmouthnh.com/events/details/waddell-reed-5th-annual-community-night-11-20-2014-4015
END:VEVENT

END:VCALENDAR
