BEGIN:VCALENDAR
VERSION:2.0
PRODID:-//ChamberMaster//Event Calendar 2.0//EN
METHOD:PUBLISH
X-PUBLISHED-TTL:P3D
REFRESH-INTERVAL:P3D
CALSCALE:GREGORIAN
BEGIN:VEVENT
DTSTART:20241114T170000Z
DTEND:20241229T170000Z
X-MICROSOFT-CDO-ALLDAYEVENT:FALSE
SUMMARY:THEATER: Cats at Seacoast Repertory Theatre
DESCRIPTION:Bring the whole family to the Jellicle Ball! Andrew Lloyd Webber's masterpiece\, with a holiday twist! Experience CATS as you've never imagined\, now with a dash of grand Christmas extravaganza! Celebrating over 40 years of Andrew Lloyd Webber's timeless classic\, this dazzling production continues to enchant audiences with its mesmerizing musical adventures of Jellicle Cats in the moonlight. Inspired by T.S. Eliot's whimsical "Book of Practical Cats\," Webber's magical spectacle unfurls with acrobatic dance\, breathtaking costumes\, intricate puppetry\, and unforgettable surprises. Both witty and wonderfully entertaining\, CATS is the ideal holiday indulgence for all ages. Don't miss the perfect holiday treat for the whole family! With additional performances extending past the holiday into your family's Christmas vacation\, there's never been a better time to fall under the spell of CATS!
X-ALT-DESC;FMTTYPE=text/html:Bring the whole family to the Jellicle Ball! Andrew Lloyd Webber&rsquo\;s masterpiece\, with a holiday twist! Experience CATS as you&#39\;ve never imagined\, now with a dash of grand Christmas extravaganza! Celebrating over 40 years of Andrew Lloyd Webber&#39\;s timeless classic\, this dazzling production continues to enchant audiences with its mesmerizing musical adventures of Jellicle Cats in the moonlight. Inspired by T.S. Eliot&#39\;s whimsical &quot\;Book of Practical Cats\,&quot\; Webber&#39\;s magical spectacle unfurls with acrobatic dance\, breathtaking costumes\, intricate puppetry\, and unforgettable surprises. Both witty and wonderfully entertaining\, CATS is the ideal holiday indulgence for all ages. Don&#39\;t miss the perfect holiday treat for the whole family! With additional performances extending past the holiday into your family&#39\;s Christmas vacation\, there&#39\;s never been a better time to fall under the spell of CATS!
LOCATION:Seacoast Repertory Theatre 125 Bow Street Portsmouth\, NH 03801
UID:e.1659.64560
SEQUENCE:3
DTSTAMP:20260423T103149Z
URL:https://calendar.goportsmouthnh.com/events/details/theater-cats-at-seacoast-repertory-theatre-64560
END:VEVENT

END:VCALENDAR
