BEGIN:VCALENDAR
VERSION:2.0
PRODID:-//ChamberMaster//Event Calendar 2.0//EN
METHOD:PUBLISH
X-PUBLISHED-TTL:P3D
REFRESH-INTERVAL:P3D
CALSCALE:GREGORIAN
BEGIN:VEVENT
DTSTART:20141109T150000Z
DTEND:20141109T210000Z
X-MICROSOFT-CDO-ALLDAYEVENT:FALSE
SUMMARY:TABLESCAPES Showcase
DESCRIPTION:Back for its third year\, TABLESCAPES\, a showcase of stunning table settings by the area's top designers\, artists and florists\, has grown into one of Seacoast NH's most anticipated holiday events. Be inspired by the tabletop creations of designers from Dana Marcos Events\, In-Home\, Valerie Jorgensen Design and many others! Learn the secrets of great holiday entertaining in workshops on food\, wine\, and design by Seacoast culinary & design celebrities like Evan Hennessey of Stages at One Washington and James Haller of the former Blue Strawbery Restaurant fame. Everything you need to take your next holiday gathering to the next level. Tickets available online and at the door.
X-ALT-DESC;FMTTYPE=text/html:Back for its third year\, TABLESCAPES\, a showcase of stunning table settings by the area&#39\;s top designers\, artists and florists\, has grown into one of Seacoast NH&#39\;s most anticipated holiday events. Be inspired by the tabletop creations of designers from Dana Marcos Events\, In-Home\, Valerie Jorgensen Design and many others! Learn the secrets of great holiday entertaining in workshops on food\, wine\, and design by Seacoast culinary &amp\; design celebrities like Evan Hennessey of Stages at One Washington and James Haller of the former Blue Strawbery Restaurant fame. Everything you need to take your next holiday gathering to the next level. Tickets available online and at the door.
LOCATION:Discover Portsmouth Center\, 10 Middle Street\, Portsmouth\, NH 03801
UID:e.1659.2951
SEQUENCE:3
DTSTAMP:20260420T062016Z
URL:https://calendar.goportsmouthnh.com/events/details/tablescapes-showcase-11-09-2014-2951
END:VEVENT

END:VCALENDAR
