BEGIN:VCALENDAR
VERSION:2.0
PRODID:-//ChamberMaster//Event Calendar 2.0//EN
METHOD:PUBLISH
X-PUBLISHED-TTL:P3D
REFRESH-INTERVAL:P3D
CALSCALE:GREGORIAN
BEGIN:VEVENT
DTSTART:20240923T160000Z
DTEND:20240923T170000Z
X-MICROSOFT-CDO-ALLDAYEVENT:FALSE
SUMMARY:SCORE Seacoast Workshop: Digital Marketing Essentials II - Email\, Social Media & more
DESCRIPTION:Whether you're just starting out or have been in business for a while\, this workshop will help you create effective digital marketing campaigns to promote your small business.\n\n \n\nYou'll learn how to successfully use various digital marketing channels including\n\n	Email marketing\n	Social media marketing\n	And paid search and content advertising.
X-ALT-DESC;FMTTYPE=text/html:<div>Whether you&#39\;re just starting out or have been in business for a while\, this workshop will help you create effective digital marketing campaigns to promote your small business.<br />\n&nbsp\;<br />\nYou&#39\;ll learn how to successfully use various digital marketing channels including\n<ul>\n	<li>Email marketing</li>\n	<li>Social media marketing</li>\n	<li>And paid search and content advertising.</li>\n</ul>\n</div>\n
LOCATION:Live online workshop presented by Seacoast SCORE volunteers
UID:e.1659.72048
SEQUENCE:3
DTSTAMP:20260419T164115Z
URL:https://calendar.goportsmouthnh.com/events/details/score-seacoast-workshop-digital-marketing-essentials-ii-email-social-media-more-09-23-2024-72048
END:VEVENT

END:VCALENDAR
