BEGIN:VCALENDAR
VERSION:2.0
PRODID:-//ChamberMaster//Event Calendar 2.0//EN
METHOD:PUBLISH
X-PUBLISHED-TTL:P3D
REFRESH-INTERVAL:P3D
CALSCALE:GREGORIAN
BEGIN:VEVENT
DTSTART:20141113T230000Z
DTEND:20141114T020000Z
X-MICROSOFT-CDO-ALLDAYEVENT:FALSE
SUMMARY:Salute to the Seacoast Beer Tasting & Food Pairing
DESCRIPTION:Salute to the Seacoast Beer Tasting & Food Pairing\nThurs\, Nov. 13\, 2014   6 to 9 p.m.\n\nThe Sheraton Harborside\, Portsmouth\, NH\n\nTickets $50.00 per person\n\nTickets can be purchased online at www.earthseaspacemuseum.org\n\nAll proceeds benefit Friends of the Earth\, Sea & Space Center.\n\n* Must be 21 or over to attend\n\nFeaturing:\n\n  Sumptuous food pairings and dessert bar\n\n  The Crab Shack Band\n\n  Silent Auction\n\n  Beer & Wine Raffle\n\nOur Brewers: 7th Settlement\, Shipyard Brewery\, Moat Mountain   Brewing Company\, Redhook Brewery\, Tuckerman's Ale\, Smuttynose Brewery\n\nSponsored By: Taste Magazine\, Everyday Details\, RAM Printing\, Z107\, Optima Bank & Trust
X-ALT-DESC;FMTTYPE=text/html:<div><strong>Salute to the Seacoast</strong><strong> Beer Tasting &amp\; Food Pairing</strong></div>\n<strong>Thurs\, Nov. 13\, 2014 &bull\; 6 to 9 p.m</strong>.<br />\nThe Sheraton Harborside\, Portsmouth\, NH<br />\nTickets $50.00 per person<br />\nTickets can be purchased online at www.earthseaspacemuseum.org<br />\nAll proceeds benefit Friends of the Earth\, Sea &amp\; Space Center.<br />\n* Must be 21 or over to attend<br />\nFeaturing:<br />\n&bull\; Sumptuous food pairings and dessert bar<br />\n&bull\; The Crab Shack Band<br />\n&bull\; Silent Auction<br />\n&bull\; Beer &amp\; Wine Raffle<br />\nOur Brewers: 7th Settlement\, Shipyard Brewery\, Moat Mountain&nbsp\;&nbsp\; Brewing Company\, Redhook Brewery\, Tuckerman&#39\;s Ale\, Smuttynose Brewery<br />\nSponsored By: Taste Magazine\, Everyday Details\, RAM Printing\, Z107\, Optima Bank &amp\; Trust
LOCATION:The Sheraton Harborside Portsmouth\, NH
UID:e.1659.3485
SEQUENCE:3
DTSTAMP:20260420T074336Z
URL:https://calendar.goportsmouthnh.com/events/details/salute-to-the-seacoast-beer-tasting-food-pairing-11-13-2014-3485
END:VEVENT

END:VCALENDAR
