BEGIN:VCALENDAR
VERSION:2.0
PRODID:-//ChamberMaster//Event Calendar 2.0//EN
METHOD:PUBLISH
X-PUBLISHED-TTL:P3D
REFRESH-INTERVAL:P3D
CALSCALE:GREGORIAN
BEGIN:VEVENT
DTSTART;VALUE=DATE:20220515
DTEND;VALUE=DATE:20220516
TRANSP:TRANSPARENT
X-MICROSOFT-CDO-ALLDAYEVENT:TRUE
SUMMARY:River House Cocktails
DESCRIPTION:The River House is offering special cocktails for \n\n\n\nTiki Tuesday - Featured Tiki Cocktail\n\nHit The Decks- Special Deck Punch\n\nSunday Bloody Mary - $5 Bloody Mary's\n\n\n\nLots of outdoor seating!
X-ALT-DESC;FMTTYPE=text/html:<span style="font-size:14px\;"><span style="font-family:arial\;">The River House is offering special cocktails for&nbsp\;<br />\n<br />\nTiki Tuesday - Featured Tiki Cocktail<br />\nHit The Decks- Special Deck Punch<br />\nSunday Bloody Mary - $5 Bloody Mary&#39\;s<br />\n<br />\nLots of outdoor seating!&nbsp\;</span></span>
LOCATION:River House
UID:e.1659.57358
SEQUENCE:3
DTSTAMP:20260423T130603Z
URL:https://calendar.goportsmouthnh.com/events/details/river-house-cocktails-05-15-2022-57358
END:VEVENT

END:VCALENDAR
