BEGIN:VCALENDAR
VERSION:2.0
PRODID:-//ChamberMaster//Event Calendar 2.0//EN
METHOD:PUBLISH
X-PUBLISHED-TTL:P3D
REFRESH-INTERVAL:P3D
CALSCALE:GREGORIAN
BEGIN:VEVENT
DTSTART:20220130T010000Z
DTEND:20220130T030000Z
X-MICROSOFT-CDO-ALLDAYEVENT:FALSE
SUMMARY:Rachael & Vilray
DESCRIPTION:Rachael Price of Lake Street Dive and guitarist-singer-composer Vilray create a rare old vinyl gem\, an unearthed jazz-vocal treasure. With Rachael & Vilray\, the duo adds a new chapter to the American Songbook\, an opportunity to hear tomorrow's standards today.\n\nEven if listeners are in on part of the secret and already know Rachael Price as lead vocalist of Lake Street Dive or as a frequent musical guest on NPR's Live from Here\, they will surely want to research these marvelous yet utterly unfamiliar songs she and guitarist-singer-composer Vilray perform together. These tunes seem to have been pulled from some hitherto undiscovered chapter of the American Songbook.\n\n\n\nPlease Note: Effective Jan.\, 7\, 2022: Before entering the building\, everyone must wear masks\, per the City of Portsmouth mandate\, in addition to showing proof of vaccination OR a negative test for live events.
X-ALT-DESC;FMTTYPE=text/html:<p style="box-sizing: border-box\; margin-top: 0px\; margin-bottom: 1rem\; font-family: minion-pro\, sans-serif\; font-size: 18px\; color: rgb(72\, 72\, 72)\;"><span style="font-size:14px\;"><span style="font-family:arial\;">Rachael Price of Lake Street Dive and guitarist-singer-composer Vilray create a rare old vinyl gem\, an unearthed jazz-vocal treasure. With Rachael &amp\; Vilray\, the duo adds a new chapter to the American Songbook\, an opportunity to hear tomorrow&rsquo\;s standards today.</span></span></p>\n\n<p style="box-sizing: border-box\; margin-top: 0px\; margin-bottom: 1rem\; font-family: minion-pro\, sans-serif\; font-size: 18px\; color: rgb(72\, 72\, 72)\;"><span style="font-size:14px\;"><span style="font-family:arial\;">Even if listeners are in on part of the secret and already know Rachael Price as lead vocalist of Lake Street Dive or as a frequent musical guest on NPR&rsquo\;s&nbsp\;<em style="box-sizing: border-box\;">Live from Here</em>\, they will surely want to research these marvelous yet utterly unfamiliar songs she and guitarist-singer-composer Vilray perform together. These tunes seem to have been pulled from some hitherto undiscovered chapter of the American Songbook.<br />\n<br />\n<span style="box-sizing: border-box\; font-weight: bolder\; color: rgb(72\, 72\, 72)\;">Please Note: Effective Jan.\, 7\, 2022:</span><span style="color: rgb(72\, 72\, 72)\;">&nbsp\;Before entering the building\, everyone must wear masks\, per the City of Portsmouth mandate\, in addition to showing proof of vaccination OR a negative test for live events.</span></span></span></p>\n
LOCATION:The Historic Theater 28 Chestnut Street Portsmouth\, NH 03801
UID:e.1659.57113
SEQUENCE:3
DTSTAMP:20260425T103643Z
URL:https://calendar.goportsmouthnh.com/events/details/rachael-vilray-57113
END:VEVENT

END:VCALENDAR
