BEGIN:VCALENDAR
VERSION:2.0
PRODID:-//ChamberMaster//Event Calendar 2.0//EN
METHOD:PUBLISH
X-PUBLISHED-TTL:P3D
REFRESH-INTERVAL:P3D
CALSCALE:GREGORIAN
BEGIN:VEVENT
DTSTART;VALUE=DATE:20141116
DTEND;VALUE=DATE:20141117
TRANSP:TRANSPARENT
X-MICROSOFT-CDO-ALLDAYEVENT:TRUE
SUMMARY:Queen of the Ocean\, Heart of the Sea: The Titanic Remembered
DESCRIPTION:
X-ALT-DESC;FMTTYPE=text/html:
LOCATION:Held in Paul College Great Hall 10 Garrison Avenue Durham\, NH
UID:e.1659.3454
SEQUENCE:3
DTSTAMP:20260420T074518Z
URL:https://calendar.goportsmouthnh.com/events/details/queen-of-the-ocean-heart-of-the-sea-the-titanic-remembered-11-16-2014-3454
END:VEVENT

END:VCALENDAR
