BEGIN:VCALENDAR
VERSION:2.0
PRODID:-//ChamberMaster//Event Calendar 2.0//EN
METHOD:PUBLISH
X-PUBLISHED-TTL:P3D
REFRESH-INTERVAL:P3D
CALSCALE:GREGORIAN
BEGIN:VEVENT
DTSTART:20141114T220000Z
DTEND:20141115T010000Z
X-MICROSOFT-CDO-ALLDAYEVENT:FALSE
SUMMARY:Queen of the Ocean\, Heart of the Sea: The Titanic Remembered
DESCRIPTION:Your evening begins at 5:00 PM with a cocktail hour in the Paul College Great Hall\, 10 Garrison Avenue on UNH's main campus in Durham . Dinner will be from 6:00-8:00 PM. Beverages will be served if you choose to incur the cost (beverages are generally not included in the menu price) and then a delectable meal will be served beginning at 6:05 PM. Throughout the evening you'll have a chance to share a glass of wine with old and new friends\, eat amazing food\, and unwind\, all the while helping to support UNH hospitality students. A brief speech by the students will conclude the evening with a toast to all who worked long\, difficult at times\, hours to put on this event. The entire process from marketing to polishing and sorting silverware is provided on behalf of our students.
X-ALT-DESC;FMTTYPE=text/html:Your evening begins at 5:00 PM with a cocktail hour in the Paul College Great Hall\,&nbsp\;10 Garrison Avenue on UNH&#39\;s main campus in Durham . Dinner will be from 6:00-8:00 PM. Beverages will be served if you choose to incur the cost (beverages are generally not included in the menu price) and then a delectable meal will be served beginning at 6:05 PM. Throughout the evening you&#39\;ll have a chance to share a glass of wine with old and new friends\, eat amazing food\, and unwind\, all the while helping to support UNH hospitality students. A brief speech by the students will conclude the evening with a toast to all who worked long\, difficult at times\, hours to put on this event. The entire process from marketing to polishing and sorting silverware is provided on behalf of our students.
LOCATION:Gourmet Dinners held on campus in the Great Hall at the Peter T. Paul College of Business and Economics. 10 Garrison Avenue\, Durham NH 03824
UID:e.1659.3452
SEQUENCE:3
DTSTAMP:20260420T074518Z
URL:https://calendar.goportsmouthnh.com/events/details/queen-of-the-ocean-heart-of-the-sea-the-titanic-remembered-11-14-2014-3452
END:VEVENT

END:VCALENDAR
