BEGIN:VCALENDAR
VERSION:2.0
PRODID:-//ChamberMaster//Event Calendar 2.0//EN
METHOD:PUBLISH
X-PUBLISHED-TTL:P3D
REFRESH-INTERVAL:P3D
CALSCALE:GREGORIAN
BEGIN:VEVENT
DTSTART:20150218T230000Z
DTEND:20150219T010000Z
X-MICROSOFT-CDO-ALLDAYEVENT:FALSE
SUMMARY:Portsmouth Science Cafe
DESCRIPTION:What's the Governments Role in Building the Economy? What are the tensions between public and private sector investment? When is government the best tool for economic progress? How do funders\, private or public\, measure the impact of their investments? Panelists: Michael Ettlinger is the founding director of the Carsey School of Public Policy and is leading the transformation of the Carsey Institute into a school of public policy. Michael Swack is an economist at UNH\, where he has appointments at the Carsey School of Public Policy and the Paul College of Business and Economics. He is the faculty director of the Center for Social Innovation and Finance.
X-ALT-DESC;FMTTYPE=text/html:What&#39\;s the Governments Role in Building the Economy? What are the tensions between public and private sector investment? When is government the best tool for economic progress? How do funders\, private or public\, measure the impact of their investments? Panelists: Michael Ettlinger is the founding director of the Carsey School of Public Policy and is leading the transformation of the Carsey Institute into a school of public policy. Michael Swack is an economist at UNH\, where he has appointments at the Carsey School of Public Policy and the Paul College of Business and Economics. He is the faculty director of the Center for Social Innovation and Finance.
LOCATION:Portsmouth Brewery's Jimmy LaPanza Lounge
UID:e.1659.6233
SEQUENCE:3
DTSTAMP:20260420T015117Z
URL:https://calendar.goportsmouthnh.com/events/details/portsmouth-science-cafe-02-18-2015-6233
END:VEVENT

END:VCALENDAR
