BEGIN:VCALENDAR
VERSION:2.0
PRODID:-//ChamberMaster//Event Calendar 2.0//EN
METHOD:PUBLISH
X-PUBLISHED-TTL:P3D
REFRESH-INTERVAL:P3D
CALSCALE:GREGORIAN
BEGIN:VEVENT
DTSTART:20220120T003000Z
DTEND:20220124T023000Z
X-MICROSOFT-CDO-ALLDAYEVENT:FALSE
SUMMARY:Papa Teen Mainstage: Be More Chill - Presented by the Seacoast Rep
DESCRIPTION:Fresh from Broadway\, the wildly popular electronic sci-fi pop-rock musical comes to the Rep stage for a limited run!\n\n \n\nJeremy Heere is just an average teenager. That is\, until he finds out about "The Squip\," a tiny supercomputer that promises to bring him everything he desires most: a date with Christine\, an invite to the raddest party of the year and a chance to survive life in his suburban New Jersey high school. But is being the most popular guy in school worth the risk?\n\n \n\nFeaturing an innovative score of electronic music as forward thinking as it's messages about anxiety\, depression\, and fitting in\, Be More Chill has become the heartbeat of Generation Z!\n\n\n\nFor the foreseeable future The Seacoast Rep will require all patrons to have masks on when in the theater regardless of their vaccination status. Thank you for working with us to ensure the safety of all.\n\n \n\n \n\nPlease read our Covid-19 guidelines before attending any live productions: https://seacoastrep.org/coronavirus/
X-ALT-DESC;FMTTYPE=text/html:<div style="font-family: Poppins\, Helvetica\, sans-serif\; box-sizing: border-box\; color: rgb(59\, 69\, 74)\; font-size: 14px\;"><span style="font-size:14px\;"><span style="font-family:arial\;"><span style="box-sizing: border-box\;"><i style="box-sizing: border-box\;">Fresh from Broadway\, the wildly popular electronic sci-fi pop-rock musical comes to the Rep stage for a limited run!</i></span></span></span></div>\n\n<div style="font-family: Poppins\, Helvetica\, sans-serif\; box-sizing: border-box\; color: rgb(59\, 69\, 74)\; font-size: 14px\;">&nbsp\;</div>\n\n<div style="font-family: Poppins\, Helvetica\, sans-serif\; box-sizing: border-box\; color: rgb(59\, 69\, 74)\; font-size: 14px\;"><span style="font-size:14px\;"><span style="font-family:arial\;"><span style="box-sizing: border-box\;">Jeremy Heere is just an average teenager. That is\, until he finds out about &quot\;The Squip\,&quot\; a tiny supercomputer that promises to bring him everything he desires most: a date with Christine\, an invite to the raddest party of the year and a chance to survive life in his suburban New Jersey high school. But is being the most popular guy in school worth the risk?</span></span></span></div>\n\n<div style="font-family: Poppins\, Helvetica\, sans-serif\; box-sizing: border-box\; color: rgb(59\, 69\, 74)\; font-size: 14px\;">&nbsp\;</div>\n\n<div style="font-family: Poppins\, Helvetica\, sans-serif\; box-sizing: border-box\; color: rgb(59\, 69\, 74)\; font-size: 14px\;"><span style="font-size:14px\;"><span style="font-family:arial\;"><span style="box-sizing: border-box\;">Featuring an innovative score of electronic music as forward thinking as it&rsquo\;s messages about anxiety\, depression\, and fitting in\, Be More Chill has become the heartbeat of Generation Z!</span></span></span>\n\n<div style="font-family: Poppins\, Helvetica\, sans-serif\; box-sizing: border-box\; color: rgb(59\, 69\, 74)\; font-size: 14px\;"><br />\n<span style="background:white\;"><span style="color:#3B454A\;"><span style="font-family:helvetica\,sans-serif\;"><span style="font-size:10.5pt\;">For the foreseeable future The Seacoast Rep will require all patrons to have masks on when in the theater regardless of their vaccination status. Thank you for working with us to ensure the&nbsp\;</span></span></span></span><span style="box-sizing:border-box\;font-variant-ligatures:normal\;font-variant-caps:normal\;orphans:2\;widows:2\;-webkit-text-stroke-width:0px\;word-spacing:0px\;">safety</span><span style="box-sizing:border-box\;font-variant-ligatures:normal\;font-variant-caps:normal\;orphans:2\;widows:2\;-webkit-text-stroke-width:0px\;word-spacing:0px\;">&nbsp\;of all.</span><br />\n&nbsp\;</div>\n\n<div style="font-family: Poppins\, Helvetica\, sans-serif\; box-sizing: border-box\; color: rgb(59\, 69\, 74)\; font-size: 14px\;">&nbsp\;</div>\n\n<div style="font-family: Poppins\, Helvetica\, sans-serif\; box-sizing: border-box\; color: rgb(59\, 69\, 74)\; font-size: 14px\;"><span style="font-family: var(--font)\; box-sizing: border-box\;">Please read our Covid-19 guidelines before attending any live productions:&nbsp\;<a href="https://seacoastrep.org/coronavirus/" style="box-sizing: border-box\; cursor: pointer\; width: auto\; height: auto\; background-color: transparent\; color: rgb(0\, 140\, 255)\;" target="_blank">https://seacoastrep.org/coronavirus/</a></span></div>\n</div>\n
LOCATION:125 Bow St\, Portsmouth\, NH 03801
UID:e.1659.57122
SEQUENCE:3
DTSTAMP:20260425T115415Z
URL:https://calendar.goportsmouthnh.com/events/details/papa-teen-mainstage-be-more-chill-presented-by-the-seacoast-rep-57122
END:VEVENT

END:VCALENDAR
