BEGIN:VCALENDAR
VERSION:2.0
PRODID:-//ChamberMaster//Event Calendar 2.0//EN
METHOD:PUBLISH
X-PUBLISHED-TTL:P3D
REFRESH-INTERVAL:P3D
CALSCALE:GREGORIAN
BEGIN:VEVENT
DTSTART:20141023T220000Z
DTEND:20141024T000000Z
X-MICROSOFT-CDO-ALLDAYEVENT:FALSE
SUMMARY:Open House Celebration
DESCRIPTION:The Seacoast Spine & Sports Injuries Clinic will be celebrating Chiropractic Health Month with an Open House celebration! We will be opening our doors on October 23rd from 6:00pm-8:00pm to the public in efforts to spread awareness about Chiropractic care. This year the American Chiropractic Association chose to focus their attention on Conservative Care First. The main focus is to avoid unnecessary and costly treatments by seeing a chiropractor for your injuries. Join us for a fun night of trivia\, raffles and food to celebrate chiropractic care!
X-ALT-DESC;FMTTYPE=text/html:The Seacoast Spine &amp\; Sports Injuries Clinic will be celebrating Chiropractic Health Month with an Open House celebration! We will be opening our doors on October 23rd from 6:00pm-8:00pm to the public in efforts to spread awareness about Chiropractic care. This year the American Chiropractic Association chose to focus their attention on Conservative Care First. The main focus is to avoid unnecessary and costly treatments by seeing a chiropractor for your injuries. Join us for a fun night of trivia\, raffles and food to celebrate chiropractic care!
LOCATION:Seacoast Spine & Sports Injuries Clinic 12 Portwalk Place Portsmouth\, NH 03801
UID:e.1659.3455
SEQUENCE:3
DTSTAMP:20260420T073701Z
URL:https://calendar.goportsmouthnh.com/events/details/open-house-celebration-10-23-2014-3455
END:VEVENT

END:VCALENDAR
