BEGIN:VCALENDAR
VERSION:2.0
PRODID:-//ChamberMaster//Event Calendar 2.0//EN
METHOD:PUBLISH
X-PUBLISHED-TTL:P3D
REFRESH-INTERVAL:P3D
CALSCALE:GREGORIAN
BEGIN:VEVENT
DTSTART:20141025T140000Z
DTEND:20141025T190000Z
X-MICROSOFT-CDO-ALLDAYEVENT:FALSE
SUMMARY:Not-So-Spooky Spectacular
DESCRIPTION:Kids are invited to come in costume to enjoy the annual Not-So-Spooky Spectacular at the Children's Museum of NH. There will be lots of activities focused on fun rather than fright\, including a scavenger hunt\, wacky science shows\, bat cave tour\, face painting and other creative activities. All the not-so-spooky fun is included in regular paid admission and no reservations are required.
X-ALT-DESC;FMTTYPE=text/html:<span style="font-family:gotham rounded book\;">Kids are invited to come in costume to enjoy the annual Not-So-Spooky Spectacular at the Children&#39\;s Museum of NH. There will be lots of activities focused on fun rather than fright\, including a scavenger hunt\, wacky science shows\, bat cave tour\, face painting and other creative activities. All the not-so-spooky fun is included in regular paid admission and no reservations are required.</span>
LOCATION:Children's Museum of NH\, 6 Washington Street\, Dover NH
UID:e.1659.2990
SEQUENCE:3
DTSTAMP:20260420T073850Z
URL:https://calendar.goportsmouthnh.com/events/details/not-so-spooky-spectacular-10-25-2014-2990
END:VEVENT

END:VCALENDAR
