BEGIN:VCALENDAR
VERSION:2.0
PRODID:-//ChamberMaster//Event Calendar 2.0//EN
METHOD:PUBLISH
X-PUBLISHED-TTL:P3D
REFRESH-INTERVAL:P3D
CALSCALE:GREGORIAN
BEGIN:VEVENT
DTSTART:20240818T160000Z
DTEND:20240818T210000Z
X-MICROSOFT-CDO-ALLDAYEVENT:FALSE
SUMMARY:New England BIPOC Festival
DESCRIPTION:New England BIPOC Festival Join Cultivate\, a 501(c)3 nonprofit\, on Sunday\, August 18\, 2024\, from 12-5 PM at Strawbery Banke Museum for the 4th Annual New England BIPOC Festival. This free\, rain-or-shine event offers a global culinary experience with a diverse array of food vendors included with admission. Attendees 21+ can also sample globally-inspired cocktails for an additional fee.\n\n\n\nThe festival will feature a dynamic lineup of performances\, including music\, dance\, and martial arts by a diverse group of artists. Special highlights include the Korean-American Society of New Hampshire's K-Pop competition finale at 4 PM and new artistic showcases through a new partnership with the NH Art Association. Explore Strawbery Banke Museum's historic houses and gardens free of charge during the event. Connect with local organizations committed to equity and social justice\, and learn about their impactful work. For more information and updates\, visit newenglandbipocfest.com. A note on parking: We kindly ask for your understanding that Strawbery Banke's parking lot is limited in size and is reserved during BIPOC Fest for attendees with handicap-accessible placards only. Visitors are encouraged to try nearby off-site parking options including Portsmouth's two parking garages.
X-ALT-DESC;FMTTYPE=text/html:New England BIPOC Festival Join Cultivate\, a 501(c)3 nonprofit\, on Sunday\, August 18\, 2024\, from 12-5 PM at Strawbery Banke Museum for the 4th Annual New England BIPOC Festival. This free\, rain-or-shine event offers a global culinary experience with a diverse array of food vendors included with admission. Attendees 21+ can also sample globally-inspired cocktails for an additional fee.<br />\n<br />\nThe festival will feature a dynamic lineup of performances\, including music\, dance\, and martial arts by a diverse group of artists. Special highlights include the Korean-American Society of New Hampshire&rsquo\;s K-Pop competition finale at 4 PM and new artistic showcases through a new partnership with the NH Art Association. Explore Strawbery Banke Museum&rsquo\;s historic houses and gardens free of charge during the event. Connect with local organizations committed to equity and social justice\, and learn about their impactful work. For more information and updates\, visit newenglandbipocfest.com. A note on parking: We kindly ask for your understanding that Strawbery Banke&#39\;s parking lot is limited in size and is reserved during BIPOC Fest for attendees with handicap-accessible placards only. Visitors are encouraged to try nearby off-site parking options including Portsmouth&#39\;s two parking garages.
LOCATION:Strawbery Banke Museum 14 Hancock Street\, Portsmouth\, NH 03801
UID:e.1659.71652
SEQUENCE:3
DTSTAMP:20260419T175852Z
URL:https://calendar.goportsmouthnh.com/events/details/new-england-bipoc-festival-71652
END:VEVENT

END:VCALENDAR
