BEGIN:VCALENDAR
VERSION:2.0
PRODID:-//ChamberMaster//Event Calendar 2.0//EN
METHOD:PUBLISH
X-PUBLISHED-TTL:P3D
REFRESH-INTERVAL:P3D
CALSCALE:GREGORIAN
BEGIN:VEVENT
DTSTART:20240823T233000Z
DTEND:20240824T013000Z
X-MICROSOFT-CDO-ALLDAYEVENT:FALSE
SUMMARY:MUSIC: Walter Trout Band
DESCRIPTION:Legendary 4x-Blues Music Award-Winner & 14x-Blues Music Award Nominated Guitarist\, Singer & Songwriter WALTER TROUT is one of the greatest Blues Rock Guitarists - EVER! Recently\, his song "Just Out of Tears" won the 2021 Blues Music Award for "Song of the Year". Walter has been Nominated 12 times for "Blues Rock Album of the Year" - winning the award in 2016 ('Battle Scars') & 2018 ('We're All In This Together'). Trout's 2022 acclaimed album 'Ride' debuted at #1 on the Billboard Blues Chart. Trout has been nothing short of prolific over the course of his career\, releasing 30 acclaimed solo albums and gaining notoriety as one of the great purveyors of the Blues & Blues Rock. Today\, Trout continues to deliver inspired recordings and live performances! "'Ordinary Madness' is a career-defining\, 11-song tour-de-force..." raves AMERICAN SONGWRITER (2020 Album Review). "If it wasn't for Walter Trout and Gary Moore\, you never would have heard of Joe Bonamassa..." says JOE BONAMASSA
X-ALT-DESC;FMTTYPE=text/html:Legendary 4x-Blues Music Award-Winner &amp\; 14x-Blues Music Award Nominated Guitarist\, Singer &amp\; Songwriter WALTER TROUT is one of the greatest Blues Rock Guitarists - EVER! Recently\, his song &quot\;Just Out of Tears&quot\; won the 2021 Blues Music Award for &quot\;Song of the Year&quot\;. Walter has been Nominated 12 times for &quot\;Blues Rock Album of the Year&quot\; - winning the award in 2016 (&#39\;Battle Scars&#39\;) &amp\; 2018 (&#39\;We&#39\;re All In This Together&#39\;). Trout&#39\;s 2022 acclaimed album &#39\;Ride&#39\; debuted at #1 on the Billboard Blues Chart. Trout has been nothing short of prolific over the course of his career\, releasing 30 acclaimed solo albums and gaining notoriety as one of the great purveyors of the Blues &amp\; Blues Rock. Today\, Trout continues to deliver inspired recordings and live performances! &quot\;&#39\;Ordinary Madness&#39\; is a career-defining\, 11-song tour-de-force...&quot\; raves AMERICAN SONGWRITER (2020 Album Review). &quot\;If it wasn&#39\;t for Walter Trout and Gary Moore\, you never would have heard of Joe Bonamassa...&quot\; says JOE BONAMASSA
LOCATION:Jimmy's Jazz & Blues Club 135 Congress St. Portsmouth N.H. 03801
UID:e.1659.69013
SEQUENCE:3
DTSTAMP:20260419T204612Z
URL:https://calendar.goportsmouthnh.com/events/details/music-walter-trout-band-69013
END:VEVENT

END:VCALENDAR
