BEGIN:VCALENDAR
VERSION:2.0
PRODID:-//ChamberMaster//Event Calendar 2.0//EN
METHOD:PUBLISH
X-PUBLISHED-TTL:P3D
REFRESH-INTERVAL:P3D
CALSCALE:GREGORIAN
BEGIN:VEVENT
DTSTART:20250316T000000Z
DTEND:20250316T020000Z
X-MICROSOFT-CDO-ALLDAYEVENT:FALSE
SUMMARY:MUSIC: The Breakers: A Tribute to Tom Petty
DESCRIPTION:The country's premier Tom Petty & the Heartbreakers tribute band. Established to let the fans of the late great Tom Petty continue to enjoy the live experience of Tom Petty & the Heartbreakers. No other Tom Petty tribute band comes close to capturing the SOUND and emotions of Tom's songs quite like the Breakers.\n\nUnlike the vast amount of Tom Petty tributes who substitute visual mimicry for sound\, the Breakers encompass the true unmistakable sound and execution of Tom Petty & the Heartbreakers.
X-ALT-DESC;FMTTYPE=text/html:<p>The country&rsquo\;s premier Tom Petty &amp\; the Heartbreakers tribute band. Established to let the fans of the late great Tom Petty continue to enjoy the live experience of Tom Petty &amp\; the Heartbreakers. No other Tom Petty tribute band comes close to capturing the SOUND and emotions of Tom&rsquo\;s songs quite like the Breakers.</p>\n\n<p>Unlike the vast amount of Tom Petty tributes who substitute visual mimicry for sound\, the Breakers encompass the true unmistakable sound and execution of Tom Petty &amp\; the Heartbreakers.</p>\n
LOCATION:The Music Hall
UID:e.1659.76278
SEQUENCE:3
DTSTAMP:20260420T111322Z
URL:https://calendar.goportsmouthnh.com/events/details/music-the-breakers-a-tribute-to-tom-petty-76278
END:VEVENT

END:VCALENDAR
