BEGIN:VCALENDAR
VERSION:2.0
PRODID:-//ChamberMaster//Event Calendar 2.0//EN
METHOD:PUBLISH
X-PUBLISHED-TTL:P3D
REFRESH-INTERVAL:P3D
CALSCALE:GREGORIAN
BEGIN:VEVENT
DTSTART:20240814T233000Z
DTEND:20240815T013000Z
X-MICROSOFT-CDO-ALLDAYEVENT:FALSE
SUMMARY:MUSIC: Takin' It To the Streets
DESCRIPTION:TAKIN' IT TO THE STREETS is the ultimate Doobie Brothers tribute show. This incredible concert performance covers all of The Doobie's great hits and an occasional deep track or two with stunning accuracy. You'll hear "Long Train Runnin"\, "China Grove"\, "Listen To The Music"' "Takin' It To The Streets"\, "What A Fool Believes"\, "Rockin' Down The Highway"' "Minute By Minute"\, "Black Water" and many more! With amazing vocal skill and top notch musicianship\, Takin' It To The Streets brings it night after night\, show after show. The Doobie Brothers concert experience doesn't get any better than Takin' It To The Streets! "One of the best tribute concerts we've seen" raves CBS. "The vocals were incredible\, the musicianship amazing\," states FLORIDA TODAY. "Outstanding - The Doobies would definitely approve\," says the KANSAS CITY PITCH.
X-ALT-DESC;FMTTYPE=text/html:&nbsp\;TAKIN&#39\; IT TO THE STREETS is the ultimate Doobie Brothers tribute show. This incredible concert performance covers all of The Doobie&#39\;s great hits and an occasional deep track or two with stunning accuracy. You&#39\;ll hear &quot\;Long Train Runnin&quot\;\, &quot\;China Grove&quot\;\, &quot\;Listen To The Music&quot\;&#39\; &quot\;Takin&#39\; It To The Streets&quot\;\, &quot\;What A Fool Believes&quot\;\, &quot\;Rockin&#39\; Down The Highway&quot\;&#39\; &quot\;Minute By Minute&quot\;\, &quot\;Black Water&quot\; and many more! With amazing vocal skill and top notch musicianship\, Takin&#39\; It To The Streets brings it night after night\, show after show. The Doobie Brothers concert experience doesn&#39\;t get any better than Takin&#39\; It To The Streets! &quot\;One of the best tribute concerts we&#39\;ve seen&quot\; raves CBS. &quot\;The vocals were incredible\, the musicianship amazing\,&quot\; states FLORIDA TODAY. &quot\;Outstanding - The Doobies would definitely approve\,&quot\; says the KANSAS CITY PITCH.
LOCATION:Jimmy's Jazz & Blues Club 135 Congress St. Portsmouth N.H. 03801
UID:e.1659.69004
SEQUENCE:3
DTSTAMP:20260419T204823Z
URL:https://calendar.goportsmouthnh.com/events/details/music-takin-it-to-the-streets-69004
END:VEVENT

END:VCALENDAR
