BEGIN:VCALENDAR
VERSION:2.0
PRODID:-//ChamberMaster//Event Calendar 2.0//EN
METHOD:PUBLISH
X-PUBLISHED-TTL:P3D
REFRESH-INTERVAL:P3D
CALSCALE:GREGORIAN
BEGIN:VEVENT
DTSTART:20240813T233000Z
DTEND:20240814T013000Z
X-MICROSOFT-CDO-ALLDAYEVENT:FALSE
SUMMARY:MUSIC: Sue Foley Band
DESCRIPTION:4x-Blues Music Award-Winner & 10x-Blues Music Award Nominated Guitarist\, Singer & Songwriter SUE FOLEY is a multi-award-winning musician and one of the finest Blues and Roots artists working today! She is a veritable triple-threat and deserves her hard-earned status as a musical virtuoso. In 2024\, Foley was also awarded the Blues Music Award for "Traditional Blues Female Artist" (Koko Taylor Award) - an award she won in 2020\, 2022\, & 2023! She was also recently honored with "Guitarist of the Year" and "Blues Act of the Year" at the 2023 Austin Music Awards\, and "Guitarist of the Year" at the 2023 Maple Blues Awards. Her last album\, 'Pinky's Blues' took home "Best Traditional Blues Album" at the 2022 Blues Music Awards! One of the premier modern blues guitarists\, raves GUITAR PLAYER MAGAZINE. She's one of the most dangerous guitar slingers on the planet. She's Serious\," says BILLY F GIBBONS (ZZ TOP). This countrys finest blues guitarist\," states the TORONTO GLOBE AND MAIL.
X-ALT-DESC;FMTTYPE=text/html:4x-Blues Music Award-Winner &amp\; 10x-Blues Music Award Nominated Guitarist\, Singer &amp\; Songwriter SUE FOLEY is a multi-award-winning musician and one of the finest Blues and Roots artists working today! She is a veritable triple-threat and deserves her hard-earned status as a musical virtuoso. In 2024\, Foley was also awarded the Blues Music Award for &quot\;Traditional Blues Female Artist&quot\; (Koko Taylor Award) - an award she won in 2020\, 2022\, &amp\; 2023! She was also recently honored with &quot\;Guitarist of the Year&quot\; and &quot\;Blues Act of the Year&quot\; at the 2023 Austin Music Awards\, and &quot\;Guitarist of the Year&quot\; at the 2023 Maple Blues Awards. Her last album\, &#39\;Pinky&#39\;s Blues&#39\; took home &quot\;Best Traditional Blues Album&quot\; at the 2022 Blues Music Awards! One of the premier modern blues guitarists\, raves GUITAR PLAYER MAGAZINE. She&#39\;s one of the most dangerous guitar slingers on the planet. She&#39\;s Serious\,&quot\; says BILLY F GIBBONS (ZZ TOP). This countrys finest blues guitarist\,&quot\; states the TORONTO GLOBE AND MAIL.
LOCATION:Jimmy's Jazz & Blues Club 135 Congress St. Portsmouth N.H. 03801
UID:e.1659.69003
SEQUENCE:3
DTSTAMP:20260419T204651Z
URL:https://calendar.goportsmouthnh.com/events/details/music-sue-foley-band-69003
END:VEVENT

END:VCALENDAR
