BEGIN:VCALENDAR
VERSION:2.0
PRODID:-//ChamberMaster//Event Calendar 2.0//EN
METHOD:PUBLISH
X-PUBLISHED-TTL:P3D
REFRESH-INTERVAL:P3D
CALSCALE:GREGORIAN
BEGIN:VEVENT
DTSTART:20240906T233000Z
DTEND:20240907T010000Z
X-MICROSOFT-CDO-ALLDAYEVENT:FALSE
SUMMARY:MUSIC: Stanley Plays The Dead
DESCRIPTION:4x-GRAMMY  Award Nominee & Legendary Guitarist STANLEY JORDAN formed a new band called STANLEY PLAYS THE DEAD. Jordan has always loved the Grateful Dead's music\, Jerry Garcia's playing in particular\, and this 4-piece unit was founded to share that love with the fans! In a career that took flight in 1985\, with the commercial & critical acclaim of his Gold Album 'Magic Touch' (it topped the Billboard's Jazz Chart for a record-breaking 51 weeks)\, guitar virtuoso Stanley Jordan has consistently displayed a chameleonic musical persona of openness\, imagination\, versatility & maverick daring.\n\n\n\nBe it bold reinventions of classical masterpieces or soulful explorations through pop-rock hits\, to blazing straight ahead jazz forays & ultramodern improvisational works-solo or with a group-Jordan can always be counted on to take listeners on breathless journeys! "Genius is a word often tossed around in musical circles\, but it has been rightfully applied to Stanley Jordan\," raves the LOS ANGELES TIMES.   The Box Office at Jimmy's is also Open Daily from 10am to 5pm\, for walk-up and phone services where you can purchase tickets and gift cards. Check our website for further information on upcoming shows and events. www.jimmysoncongress.com
X-ALT-DESC;FMTTYPE=text/html:4x-GRAMMY&reg\; Award Nominee &amp\; Legendary Guitarist STANLEY JORDAN formed a new band called STANLEY PLAYS THE DEAD. Jordan has always loved the Grateful Dead&#39\;s music\, Jerry Garcia&#39\;s playing in particular\, and this 4-piece unit was founded to share that love with the fans! In a career that took flight in 1985\, with the commercial &amp\; critical acclaim of his Gold Album &#39\;Magic Touch&#39\; (it topped the Billboard&#39\;s Jazz Chart for a record-breaking 51 weeks)\, guitar virtuoso Stanley Jordan has consistently displayed a chameleonic musical persona of openness\, imagination\, versatility &amp\; maverick daring.<br />\n<br />\nBe it bold reinventions of classical masterpieces or soulful explorations through pop-rock hits\, to blazing straight ahead jazz forays &amp\; ultramodern improvisational works-solo or with a group-Jordan can always be counted on to take listeners on breathless journeys! &quot\;Genius is a word often tossed around in musical circles\, but it has been rightfully applied to Stanley Jordan\,&quot\; raves the LOS ANGELES TIMES.&nbsp\; &nbsp\;<span style="background-color:rgb(255\, 255\, 255)\; font-family:arial\,helvetica\,sans-serif\; font-size:16px">The Box Office at Jimmy&rsquo\;s is also Open Daily from 10am to 5pm\, for walk-up and phone services where you can purchase tickets and gift cards. Check our website for further information on upcoming shows and events. www.jimmysoncongress.com&nbsp\;</span>
LOCATION:Jimmy's Jazz & Blues Club 135 Congress St. Portsmouth N.H. 03801
UID:e.1659.71641
SEQUENCE:3
DTSTAMP:20260419T192221Z
URL:https://calendar.goportsmouthnh.com/events/details/music-stanley-plays-the-dead-09-06-2024-71641
END:VEVENT

END:VCALENDAR
