BEGIN:VCALENDAR
VERSION:2.0
PRODID:-//ChamberMaster//Event Calendar 2.0//EN
METHOD:PUBLISH
X-PUBLISHED-TTL:P3D
REFRESH-INTERVAL:P3D
CALSCALE:GREGORIAN
BEGIN:VEVENT
DTSTART:20250325T000000Z
DTEND:20250325T020000Z
X-MICROSOFT-CDO-ALLDAYEVENT:FALSE
SUMMARY:MUSIC: of Montreal
DESCRIPTION:of Montreal w/ opener\, March 24 Doors 7pm / Show 8pm $23 Members / $25 General Admission Advance / $30 GA Day of Show All ages / Standing --\n\n\n\nOn of Montreal's seminal album The Sunlandic Twins\, songwriter and multi-instrumentalist Kevin Barnes followed up their 2004 Polyvinyl debut\, Satanic Panic in the Attic\, with what became the band's most commercially successful album to date.\n\n\n\nOriginally released in April 2005\, The Sunlandic Twins marked a significant turning point for of Montreal\, showcasing Barnes' evolving songwriting and a shift towards a more electronic and dance-oriented sound.\n\n\n\nThe album's vibrant blend of synth-pop and psych rock helped cement its status as a fan favorite and a defining moment in the band's career. Iconic tracks like "Wraith Pinned to the Mist and Other Games" and "The Party's Crashing Us" became some of the most beloved songs in the band's extensive catalog.
X-ALT-DESC;FMTTYPE=text/html:of Montreal w/ opener\, March 24 Doors 7pm / Show 8pm $23 Members / $25 General Admission Advance / $30 GA Day of Show All ages / Standing --<br />\n<br />\nOn of Montreal&rsquo\;s seminal album The Sunlandic Twins\, songwriter and multi-instrumentalist Kevin Barnes followed up their 2004 Polyvinyl debut\, Satanic Panic in the Attic\, with what became the band&rsquo\;s most commercially successful album to date.<br />\n<br />\nOriginally released in April 2005\, The Sunlandic Twins marked a significant turning point for of Montreal\, showcasing Barnes&rsquo\; evolving songwriting and a shift towards a more electronic and dance-oriented sound.<br />\n<br />\nThe album&rsquo\;s vibrant blend of synth-pop and psych rock helped cement its status as a fan favorite and a defining moment in the band&rsquo\;s career. Iconic tracks like &ldquo\;Wraith Pinned to the Mist and Other Games&rdquo\; and &ldquo\;The Party&rsquo\;s Crashing Us&rdquo\; became some of the most beloved songs in the band&rsquo\;s extensive catalog.
LOCATION:3S Artspace 319 Vaughan Street Portsmouth\, NH 03801
UID:e.1659.75720
SEQUENCE:3
DTSTAMP:20260420T111507Z
URL:https://calendar.goportsmouthnh.com/events/details/music-of-montreal-75720
END:VEVENT

END:VCALENDAR
