BEGIN:VCALENDAR
VERSION:2.0
PRODID:-//ChamberMaster//Event Calendar 2.0//EN
METHOD:PUBLISH
X-PUBLISHED-TTL:P3D
REFRESH-INTERVAL:P3D
CALSCALE:GREGORIAN
BEGIN:VEVENT
DTSTART:20240808T233000Z
DTEND:20240809T013000Z
X-MICROSOFT-CDO-ALLDAYEVENT:FALSE
SUMMARY:MUSIC: Nicole Zuraitis
DESCRIPTION:GRAMMY  Award-Winning & 2x-GRAMMY  Nominated Jazz Vocalist\, Pianist & Songwriter NICOLE ZURAITIS is one of the most sought-after artists of the moment. DOWNBEAT MAGAZINE describes Nicole with Visceral Vocals and a Powerhouse Presence combined with Winning Songwriting. As a recording artist\, Nicole has released 5 acclaimed albums as a leader\, and her sixth album 'How Love Begins' (2023)\, co-produced with 8x-GRAMMY  Winning Bassist Christian McBride\, won the 2023 GRAMMY  Award for "Best Jazz Vocal Album". Nicole is a powerhouse vocalist and continues to establish herself as an undeniable force in the modern jazz landscape. Nicole's bold\, versatile voice possesses a special combination of soothing warmth\, familiar authenticity\, and raw grit that is reinventing the worlds conception of what it means to be a jazz artist. "A celebrated pianist\, singer\, and songwriter..." states JAZZ TIMES. "Nicole Zuraitis has a heart full of soul and a voice full of sunshine\, raves ALL ABOUT JAZZ.
X-ALT-DESC;FMTTYPE=text/html:GRAMMY&reg\; Award-Winning &amp\; 2x-GRAMMY&reg\; Nominated Jazz Vocalist\, Pianist &amp\; Songwriter NICOLE ZURAITIS is one of the most sought-after artists of the moment. DOWNBEAT MAGAZINE describes Nicole with Visceral Vocals and a Powerhouse Presence combined with Winning Songwriting. As a recording artist\, Nicole has released 5 acclaimed albums as a leader\, and her sixth album &#39\;How Love Begins&#39\; (2023)\, co-produced with 8x-GRAMMY&reg\; Winning Bassist Christian McBride\, won the 2023 GRAMMY&reg\; Award for &quot\;Best Jazz Vocal Album&quot\;. Nicole is a powerhouse vocalist and continues to establish herself as an undeniable force in the modern jazz landscape. Nicole&#39\;s bold\, versatile voice possesses a special combination of soothing warmth\, familiar authenticity\, and raw grit that is reinventing the worlds conception of what it means to be a jazz artist. &quot\;A celebrated pianist\, singer\, and songwriter...&quot\; states JAZZ TIMES. &quot\;Nicole Zuraitis has a heart full of soul and a voice full of sunshine\, raves ALL ABOUT JAZZ.
LOCATION:Jimmy's Jazz & Blues Club 135 Congress St. Portsmouth N.H. 03801
UID:e.1659.69000
SEQUENCE:3
DTSTAMP:20260419T204707Z
URL:https://calendar.goportsmouthnh.com/events/details/music-nicole-zuraitis-69000
END:VEVENT

END:VCALENDAR
