BEGIN:VCALENDAR
VERSION:2.0
PRODID:-//ChamberMaster//Event Calendar 2.0//EN
METHOD:PUBLISH
X-PUBLISHED-TTL:P3D
REFRESH-INTERVAL:P3D
CALSCALE:GREGORIAN
BEGIN:VEVENT
DTSTART:20240827T233000Z
DTEND:20240828T013000Z
X-MICROSOFT-CDO-ALLDAYEVENT:FALSE
SUMMARY:MUSIC: Moondance
DESCRIPTION:MOONDANCE returns to Jimmy's following their sold out performance in January! Rock and roll doesn't get any better than Van Morrison. Van the Man has done it all - from classic rockers like "Brown Eyed Girl" and "Domino" to legendary tunes like "Tupelo Honey" and "Into The Mystic"\, the Rock and Roll Hall of Famer has never failed to impress music lovers around the globe. Moondance is the ultimate Van Morrison Tribute Concert. This incredible show captures the Van Morrison concert experience like no other. You'll hear classic tunes - "Brown Eyed Girl"\, "Moondance"\, "Domino"\, "It Stoned Me"\, "Tupelo Honey"\, "Wild Night"\, "Into The Mystic"\, "Caravan" - just to name a few. The show is packed with one VM classic after the next! "An Incredible recreation of the Irish legend\," raves the LOS ANGELES TIMES.
X-ALT-DESC;FMTTYPE=text/html:MOONDANCE returns to Jimmy&#39\;s following their sold out performance in January! Rock and roll doesn&#39\;t get any better than Van Morrison. Van the Man has done it all - from classic rockers like &quot\;Brown Eyed Girl&quot\; and &quot\;Domino&quot\; to legendary tunes like &quot\;Tupelo Honey&quot\; and &quot\;Into The Mystic&quot\;\, the Rock and Roll Hall of Famer has never failed to impress music lovers around the globe. Moondance is the ultimate Van Morrison Tribute Concert. This incredible show captures the Van Morrison concert experience like no other. You&#39\;ll hear classic tunes - &quot\;Brown Eyed Girl&quot\;\, &quot\;Moondance&quot\;\, &quot\;Domino&quot\;\, &quot\;It Stoned Me&quot\;\, &quot\;Tupelo Honey&quot\;\, &quot\;Wild Night&quot\;\, &quot\;Into The Mystic&quot\;\, &quot\;Caravan&quot\; - just to name a few. The show is packed with one VM classic after the next! &quot\;An Incredible recreation of the Irish legend\,&quot\; raves the LOS ANGELES TIMES.
LOCATION:Jimmy's Jazz & Blues Club 135 Congress St. Portsmouth N.H. 03801
UID:e.1659.69015
SEQUENCE:3
DTSTAMP:20260419T175449Z
URL:https://calendar.goportsmouthnh.com/events/details/music-moondance-69015
END:VEVENT

END:VCALENDAR
