BEGIN:VCALENDAR
VERSION:2.0
PRODID:-//ChamberMaster//Event Calendar 2.0//EN
METHOD:PUBLISH
X-PUBLISHED-TTL:P3D
REFRESH-INTERVAL:P3D
CALSCALE:GREGORIAN
BEGIN:VEVENT
DTSTART:20220117T170000Z
DTEND:20220117T230000Z
X-MICROSOFT-CDO-ALLDAYEVENT:FALSE
SUMMARY:MLK Day Escape
DESCRIPTION:Get your adventure on this MLK Day! Monkey Mind Escape Rooms takes pride in clean\, safe & fun ?entertainment perfect for friends\, family & date nights! Our themed escape rooms are: The Stolen Diamond (Beginner)\, The Cursed Tomb (Intermediate)\, The Antidote (Intermediate) and Legend of the Shoals (Challenging). Book your adventure online at www.MonkeyMindEscape.com
X-ALT-DESC;FMTTYPE=text/html:Get your adventure on this MLK Day! Monkey Mind Escape Rooms takes pride in clean\, safe &amp\; fun ?entertainment perfect for friends\, family &amp\; date nights! Our themed escape rooms are: The Stolen Diamond (Beginner)\, The Cursed Tomb (Intermediate)\, The Antidote (Intermediate) and Legend of the Shoals (Challenging). Book your adventure online at www.MonkeyMindEscape.com
LOCATION:Monkey Mind Escape Rooms 10 Vaughan Mall Suite 214 Portsmouth\, NH 03801
UID:e.1659.57097
SEQUENCE:3
DTSTAMP:20260425T103643Z
URL:https://calendar.goportsmouthnh.com/events/details/mlk-day-escape-57097
END:VEVENT

END:VCALENDAR
