BEGIN:VCALENDAR
VERSION:2.0
PRODID:-//ChamberMaster//Event Calendar 2.0//EN
METHOD:PUBLISH
X-PUBLISHED-TTL:P3D
REFRESH-INTERVAL:P3D
CALSCALE:GREGORIAN
BEGIN:VEVENT
DTSTART:20220815T160000Z
DTEND:20220815T170000Z
X-MICROSOFT-CDO-ALLDAYEVENT:FALSE
SUMMARY:Lunchtime Mixer Pilot Program Hosted by the Rooftop at the Envio
DESCRIPTION:Please join us for the 2nd pilot of our new Lunchtime Mixer Series.\n\n\n\nThis program will follow a similar format to our very popular Morning Mixer program but will take place over lunchtime.\n\n\n\nThis is a great opportunity for folks who would like to participate in networking events but are not able to join us for the Morning Mixer or Business After Hours.
X-ALT-DESC;FMTTYPE=text/html:Please join us for the 2nd pilot of our new Lunchtime Mixer Series.<br />\n<br />\nThis program will follow a similar format to our very popular Morning Mixer program but will take place over lunchtime.<br />\n<br />\nThis is a great opportunity for folks who would like to participate in networking events but are not able to join us for the Morning Mixer or Business After Hours.
LOCATION:Rooftop at the Envio 299 Vaughan St.\, Portsmouth
UID:e.1659.57659
SEQUENCE:3
DTSTAMP:20260424T224313Z
URL:https://calendar.goportsmouthnh.com/events/details/lunchtime-mixer-pilot-program-hosted-by-the-rooftop-at-the-envio-57659
END:VEVENT

END:VCALENDAR
