BEGIN:VCALENDAR
VERSION:2.0
PRODID:-//ChamberMaster//Event Calendar 2.0//EN
METHOD:PUBLISH
X-PUBLISHED-TTL:P3D
REFRESH-INTERVAL:P3D
CALSCALE:GREGORIAN
BEGIN:VEVENT
DTSTART;VALUE=DATE:20220105
DTEND;VALUE=DATE:20220106
TRANSP:TRANSPARENT
X-MICROSOFT-CDO-ALLDAYEVENT:TRUE
SUMMARY:Laser Cutter Training
DESCRIPTION:Learn how to use the coolest prototyping and customizing tool: the Laser Cutter!\n\nIn this class we will cover the operation of our 40 watt CO2 laser cutter. We will go over how the machine works\, how to make designs\, and how to set it up.\n\nThe software we use for designing and preparing code for the laser cutter is called LightBurn.\n\nAttendees will make simple laser-cut boxes with a design on the front!\n\nThese are the kinds of materials our laser can cut:\n\n\n	 " plywood and other thing woods\n	Clear and colored acrylics\n	Cardstock and paper\n	Fabrics\n	EVA Foam\n	Non-PVC plastics\n\n\nThese are materials it can engrave:\n\n\n	All of the above\n	Cases for phones or laptops\n	Glass (coated)\n	Rubber (special type for laser engraving)\n	Black-painted metals\n\n\n \n\n\n\n\nOpen to ages 18 and up\n\nInstructor: Paul Ringuette\n\nAttendees who are not yet vaccinated against COVID-19 are required to wear a mask and social distance.\n\nIf you are sick or think you may have been exposed recently\, please don't come!\n\nAttendees: 3-6\n\nAttendees can receive refunds up to 7 days before your event start date.\n\nRegistration closes 3 days before the event.
X-ALT-DESC;FMTTYPE=text/html:<p style="margin: 0px\; padding: 0px\; color: rgb(111\, 114\, 135)\; font-size: 16px\; line-height: 1.5rem\; font-family: &quot\;Neue Plak&quot\;\, -apple-system\, BlinkMacSystemFont\, Roboto\, &quot\;Helvetica Neue&quot\;\, Helvetica\, Tahoma\, Arial\, sans-serif\; letter-spacing: 0.5px\;">Learn how to use the coolest prototyping and customizing tool: the Laser Cutter!</p>\n\n<p style="margin: 0px\; padding: 10px 0px 0px\; color: rgb(111\, 114\, 135)\; font-size: 16px\; line-height: 1.5rem\; font-family: &quot\;Neue Plak&quot\;\, -apple-system\, BlinkMacSystemFont\, Roboto\, &quot\;Helvetica Neue&quot\;\, Helvetica\, Tahoma\, Arial\, sans-serif\; letter-spacing: 0.5px\;">In this class we will cover the operation of our 40 watt CO2 laser cutter. We will go over how the machine works\, how to make designs\, and how to set it up.</p>\n\n<p style="margin: 0px\; padding: 10px 0px 0px\; color: rgb(111\, 114\, 135)\; font-size: 16px\; line-height: 1.5rem\; font-family: &quot\;Neue Plak&quot\;\, -apple-system\, BlinkMacSystemFont\, Roboto\, &quot\;Helvetica Neue&quot\;\, Helvetica\, Tahoma\, Arial\, sans-serif\; letter-spacing: 0.5px\;">The software we use for designing and preparing code for the laser cutter is called LightBurn.</p>\n\n<p style="margin: 0px\; padding: 10px 0px 0px\; color: rgb(111\, 114\, 135)\; font-size: 16px\; line-height: 1.5rem\; font-family: &quot\;Neue Plak&quot\;\, -apple-system\, BlinkMacSystemFont\, Roboto\, &quot\;Helvetica Neue&quot\;\, Helvetica\, Tahoma\, Arial\, sans-serif\; letter-spacing: 0.5px\;">Attendees will make&nbsp\;simple laser-cut boxes with a design on the front!</p>\n\n<p style="margin: 0px\; padding: 10px 0px 0px\; color: rgb(111\, 114\, 135)\; font-size: 16px\; line-height: 1.5rem\; font-family: &quot\;Neue Plak&quot\;\, -apple-system\, BlinkMacSystemFont\, Roboto\, &quot\;Helvetica Neue&quot\;\, Helvetica\, Tahoma\, Arial\, sans-serif\; letter-spacing: 0.5px\;">These are the kinds of materials our laser can cut:</p>\n\n<ul style="margin: 0px\; padding-top: 10px\; padding-right: 0px\; padding-left: 2em\; list-style-position: initial\; list-style-image: initial\; color: rgb(111\, 114\, 135)\; font-size: 16px\; line-height: 1.5rem\; font-family: &quot\;Neue Plak&quot\;\, -apple-system\, BlinkMacSystemFont\, Roboto\, &quot\;Helvetica Neue&quot\;\, Helvetica\, Tahoma\, Arial\, sans-serif\; letter-spacing: 0.5px\;">\n	<li style="margin: 0px\; padding: 0px\;">&frac14\;&rdquo\; plywood and other thing woods</li>\n	<li style="margin: 0px\; padding: 5px 0px 0px\;">Clear and colored acrylics</li>\n	<li style="margin: 0px\; padding: 5px 0px 0px\;">Cardstock and paper</li>\n	<li style="margin: 0px\; padding: 5px 0px 0px\;">Fabrics</li>\n	<li style="margin: 0px\; padding: 5px 0px 0px\;">EVA Foam</li>\n	<li style="margin: 0px\; padding: 5px 0px 0px\;">Non-PVC plastics</li>\n</ul>\n\n<p style="margin: 0px\; padding: 10px 0px 0px\; color: rgb(111\, 114\, 135)\; font-size: 16px\; line-height: 1.5rem\; font-family: &quot\;Neue Plak&quot\;\, -apple-system\, BlinkMacSystemFont\, Roboto\, &quot\;Helvetica Neue&quot\;\, Helvetica\, Tahoma\, Arial\, sans-serif\; letter-spacing: 0.5px\;">These are materials it can engrave:</p>\n\n<ul style="margin: 0px\; padding-top: 10px\; padding-right: 0px\; padding-left: 2em\; list-style-position: initial\; list-style-image: initial\; color: rgb(111\, 114\, 135)\; font-size: 16px\; line-height: 1.5rem\; font-family: &quot\;Neue Plak&quot\;\, -apple-system\, BlinkMacSystemFont\, Roboto\, &quot\;Helvetica Neue&quot\;\, Helvetica\, Tahoma\, Arial\, sans-serif\; letter-spacing: 0.5px\;">\n	<li style="margin: 0px\; padding: 0px\;">All of the above</li>\n	<li style="margin: 0px\; padding: 5px 0px 0px\;">Cases for phones or laptops</li>\n	<li style="margin: 0px\; padding: 5px 0px 0px\;">Glass (coated)</li>\n	<li style="margin: 0px\; padding: 5px 0px 0px\;">Rubber (special type for laser engraving)</li>\n	<li style="margin: 0px\; padding: 5px 0px 0px\;">Black-painted metals</li>\n</ul>\n\n<div style="margin: 0px\; padding: 5px 0px 0px\;">&nbsp\;\n<div class="g-group l-mar-bot-6 l-sm-mar-bot-4" style="margin: 0px 0px 30px\; padding: 0px\; font-size: 0px\; letter-spacing: 0px\; color: rgb(57\, 54\, 79)\; font-family: &quot\;Neue Plak&quot\;\, -apple-system\, BlinkMacSystemFont\, Roboto\, &quot\;Helvetica Neue&quot\;\, Helvetica\, Tahoma\, Arial\, sans-serif\;">\n<div class="structured-content g-cell g-cell-10-12 g-cell-md-1-1" style="margin: 0px\; padding: 0px 15px\; width: 560px\; box-sizing: border-box\; display: inline-block\; overflow: hidden\; vertical-align: top\; letter-spacing: 0.5px\; font-size: 0.933333rem\; line-height: 1.25rem\;">\n<div class="has-user-generated-content" data-automation="about-this-event-sc" style="margin: 0px\; padding: 0px\;">\n<div class="structured-content-rich-text structured-content__module l-align-left l-mar-vert-6 l-sm-mar-vert-4 text-body-medium" style="margin: 30px 0px\; padding: 0px\; font-size: 0.933333rem\; line-height: 1.25rem\; text-rendering: optimizelegibility\;">\n<p style="margin: 0px\; padding: 10px 0px 0px\; color: rgb(111\, 114\, 135)\; font-size: 16px\; line-height: 1.5rem\;"><span style="font-weight: 700\; padding-top: 0px\;">Open to ages 18 and up</span></p>\n\n<p style="margin: 0px\; padding: 10px 0px 0px\; color: rgb(111\, 114\, 135)\; font-size: 16px\; line-height: 1.5rem\;"><span style="font-weight: 700\; padding-top: 0px\;">Instructor: Paul Ringuette</span></p>\n\n<p style="margin: 0px\; padding: 10px 0px 0px\; color: rgb(111\, 114\, 135)\; font-size: 16px\; line-height: 1.5rem\;"><span style="font-weight: 700\; padding-top: 0px\;">Attendees who are not yet vaccinated against COVID-19 are required to wear a mask and social distance.</span></p>\n\n<p style="margin: 0px\; padding: 10px 0px 0px\; color: rgb(111\, 114\, 135)\; font-size: 16px\; line-height: 1.5rem\;"><span style="font-weight: 700\; padding-top: 0px\;">If you are sick or think you may have been exposed recently\, please don&#39\;t come!</span></p>\n\n<p style="margin: 0px\; padding: 10px 0px 0px\; color: rgb(111\, 114\, 135)\; font-size: 16px\; line-height: 1.5rem\;"><span style="font-weight: 700\; padding-top: 0px\;">Attendees: 3-6</span></p>\n\n<p style="margin: 0px\; padding: 10px 0px 0px\; color: rgb(111\, 114\, 135)\; font-size: 16px\; line-height: 1.5rem\;"><span style="font-weight: 700\; padding-top: 0px\;">Attendees can receive refunds up to 7 days before your event start date.</span></p>\n\n<p style="margin: 0px\; padding: 10px 0px 0px\; color: rgb(111\, 114\, 135)\; font-size: 16px\; line-height: 1.5rem\;"><span style="font-weight: 700\; padding-top: 0px\;">Registration closes 3 days before the event.</span></p>\n</div>\n</div>\n</div>\n</div>\n\n<div class="g-group l-lg-mar-bot-6 l-md-mar-bot-4 l-pad-bot-6" style="margin: 0px 0px 30px\; padding: 0px 0px 30px\; font-size: 0px\; letter-spacing: 0px\; color: rgb(57\, 54\, 79)\; font-family: &quot\;Neue Plak&quot\;\, -apple-system\, BlinkMacSystemFont\, Roboto\, &quot\;Helvetica Neue&quot\;\, Helvetica\, Tahoma\, Arial\, sans-serif\;">\n<div class="g-cell g-cell-10-12 g-cell-md-12-12" style="margin: 0px\; padding: 0px 15px\; width: 560px\; box-sizing: border-box\; display: inline-block\; overflow: hidden\; vertical-align: top\; letter-spacing: 0.5px\; font-size: 0.933333rem\; line-height: 1.25rem\;">&nbsp\;</div>\n</div>\n</div>\n
LOCATION:Port City Makerspace 68 Morning Street Portsmouth\, NH 03801
UID:e.1659.57034
SEQUENCE:3
DTSTAMP:20260425T103528Z
URL:https://calendar.goportsmouthnh.com/events/details/laser-cutter-training-57034
END:VEVENT

END:VCALENDAR
