BEGIN:VCALENDAR
VERSION:2.0
PRODID:-//ChamberMaster//Event Calendar 2.0//EN
METHOD:PUBLISH
X-PUBLISHED-TTL:P3D
REFRESH-INTERVAL:P3D
CALSCALE:GREGORIAN
BEGIN:VEVENT
DTSTART;VALUE=DATE:20220903
DTEND;VALUE=DATE:20220906
TRANSP:TRANSPARENT
X-MICROSOFT-CDO-ALLDAYEVENT:TRUE
SUMMARY:Labor Day Weekend Sale
DESCRIPTION:Buy 6\, Get the 7th Free on all small baggies of spice blends! Get ready for fall baking and the holiday season by stocking up on your Pumpkin Pie Spice\, Baker's Spice\, Pork & Poultry Seasoning\, Pickling Seasoning\, and more.
X-ALT-DESC;FMTTYPE=text/html:Buy 6\, Get the 7th Free on all small baggies of spice blends! Get ready for fall baking and the holiday season by stocking up on your Pumpkin Pie Spice\, Baker&#39\;s Spice\, Pork &amp\; Poultry Seasoning\, Pickling Seasoning\, and more.
LOCATION:The Spice & Tea Exchange 63 Congress Street Portsmouth\, NH 03801
UID:e.1659.57942
SEQUENCE:3
DTSTAMP:20260424T212913Z
URL:https://calendar.goportsmouthnh.com/events/details/labor-day-weekend-sale-57942
END:VEVENT

END:VCALENDAR
