BEGIN:VCALENDAR
VERSION:2.0
PRODID:-//ChamberMaster//Event Calendar 2.0//EN
METHOD:PUBLISH
X-PUBLISHED-TTL:P3D
REFRESH-INTERVAL:P3D
CALSCALE:GREGORIAN
BEGIN:VEVENT
DTSTART:20141207T190000Z
DTEND:20141207T220000Z
X-MICROSOFT-CDO-ALLDAYEVENT:FALSE
SUMMARY:Holiday Open House
DESCRIPTION:On Sunday\, December 7th from 2 to 5 PM\, the New Hampshire SPCA will be celebrating the holiday season and inviting all of our friends from the community to join us for our Holiday Open House. The Holiday Open House is a festive way to ring in the holiday season with the animals. This year's event will feature holiday music\, crafts\, a fabulous gift basket raffle\, delicious treats\, a Blessing of the Animals\, our annual Tree Lighting and of course\, Santa!
X-ALT-DESC;FMTTYPE=text/html:On Sunday\, December 7th from 2 to 5 PM\, the New Hampshire SPCA will be celebrating the holiday season and inviting all of our friends from the community to join us for our Holiday Open House. The Holiday Open House is a festive way to ring in the holiday season with the animals. This year&#39\;s event will feature holiday music\, crafts\, a fabulous gift basket raffle\, delicious treats\, a Blessing of the Animals\, our annual Tree Lighting and of course\, Santa!
LOCATION:New Hampshire SPCA 104 Portsmouth Avenue Stratham\, NH
UID:e.1659.3958
SEQUENCE:3
DTSTAMP:20260420T044142Z
URL:https://calendar.goportsmouthnh.com/events/details/holiday-open-house-12-07-2014-3958
END:VEVENT

END:VCALENDAR
