BEGIN:VCALENDAR
VERSION:2.0
PRODID:-//ChamberMaster//Event Calendar 2.0//EN
METHOD:PUBLISH
X-PUBLISHED-TTL:P3D
REFRESH-INTERVAL:P3D
CALSCALE:GREGORIAN
BEGIN:VEVENT
DTSTART:20141113T223000Z
DTEND:20141114T013000Z
X-MICROSOFT-CDO-ALLDAYEVENT:FALSE
SUMMARY:Healthy Living Series
DESCRIPTION:The American Lung Association and Balance a Women's GYM in Portsmouth are hosting their fall Healthy Living Series event on Thursday\, November 13 from 5:30 - 8:30pm. Located at 125 Brewery Lane in Portsmouth\, this free event will feature interactive sessions hosted by speakers from: Tami Provost "it on the Fly Paul Curley" National Cycling Champion Patrick Manzer - Eastern Mountain Sports Kathryn Londoff and Michelle McCauley - Core N More The brand new spin studio at Balance A Women's GYM will be hosting an open house during this event. All are welcome to visit and check it out. Get tips on how to practice healthy living habits and continue your fitness activities through the fall and winter months. This event is open to the public. To RSVP and for more details\, email: CycletheSeacoast@LungNE.org
X-ALT-DESC;FMTTYPE=text/html:The American Lung Association and Balance a Women&#39\;s GYM in Portsmouth are hosting their fall Healthy Living Series event on Thursday\, November 13 from 5:30 - 8:30pm. Located at 125 Brewery Lane in Portsmouth\, this free event will feature interactive sessions hosted by speakers from: Tami Provost &quot\;it on the Fly Paul Curley&quot\; National Cycling Champion Patrick Manzer - Eastern Mountain Sports Kathryn Londoff and Michelle McCauley - Core N More The brand new spin studio at Balance A Women&#39\;s GYM will be hosting an open house during this event. All are welcome to visit and check it out. Get tips on how to practice healthy living habits and continue your fitness activities through the fall and winter months. This event is open to the public. To RSVP and for more details\, email: CycletheSeacoast@LungNE.org
LOCATION:Balance A Women's GYM - 125 Brewery Lane\, Portsmouth
UID:e.1659.3463
SEQUENCE:3
DTSTAMP:20260420T074044Z
URL:https://calendar.goportsmouthnh.com/events/details/healthy-living-series-11-13-2014-3463
END:VEVENT

END:VCALENDAR
