BEGIN:VCALENDAR
VERSION:2.0
PRODID:-//ChamberMaster//Event Calendar 2.0//EN
METHOD:PUBLISH
X-PUBLISHED-TTL:P3D
REFRESH-INTERVAL:P3D
CALSCALE:GREGORIAN
BEGIN:VEVENT
DTSTART:20241107T220000Z
DTEND:20241107T230000Z
X-MICROSOFT-CDO-ALLDAYEVENT:FALSE
SUMMARY:Gundalow Co. Science Cafe: Horseshoe Crab Monitoring
DESCRIPTION:Free event at Throwback Brewery Jericho's Landing Function Room sponsored by the non-profit Gundalow Company.\n\n\n\nThe Piscataqua Science Cafe series runs during the Gundalow Company's off season at locations around the seacoast. Each night brings in experts from a variety of backgrounds together for a discussion about current science topics.\n\n\n\nThis Science Cafe is presented by Melissa Brogle of the Great Bay National Estuarine Research Reserve and Chris Chabot of Plymouth University discussing horseschoe crab monitoring in Great Bay.\n\n\n\nHorseshoe crabs are keystone species that can be found from Maine to the Yucatan Peninsula\, including the Great Bay Estuary. A group of scientists has been investigating and monitoring the Great Bay population for nearly 20 years and we are still discovering many exciting and fascinating findings! These efforts have grown recently with more and more local Citizen Scientists becoming involved. Come hear about some of our research\, get answers to your questions\, and how you might become involved in the Summer of 2025!
X-ALT-DESC;FMTTYPE=text/html:Free event at Throwback Brewery Jericho&#39\;s Landing Function Room sponsored by the non-profit Gundalow Company.<br />\n<br />\n<span style="color:rgb(71\, 70\, 71)\; font-family:source sans pro\,sans-serif\; font-size:14px">The Piscataqua Science Cafe series runs during the Gundalow Company&rsquo\;s off season at locations around the seacoast. Each night brings in experts from a variety of backgrounds together for a discussion about current science topics.</span><br />\n<br />\n<span style="color:rgb(71\, 70\, 71)\; font-family:source sans pro\,sans-serif\; font-size:14px">This Science Cafe is presented by Melissa Brogle of the&nbsp\;Great Bay National Estuarine Research Reserve and Chris Chabot of Plymouth University discussing horseschoe crab monitoring in Great Bay.</span><br />\n<br />\n<span style="color:rgb(71\, 70\, 71)\; font-family:source sans pro\,sans-serif\; font-size:14px">Horseshoe crabs are keystone species that can be found from Maine to the Yucatan Peninsula\, including the Great Bay Estuary. A group of scientists has been investigating and monitoring the Great Bay population for nearly 20 years and we are still discovering many exciting and fascinating findings! These efforts have grown recently with more and more local Citizen Scientists becoming involved. Come hear about some of our research\, get answers to your questions\, and how you might become involved in the Summer of 2025!</span>\n<p>&nbsp\;</p>\n
LOCATION:Throwback Brewery's Jericho's Landing Function Room\, 7 Hobbs Road\, North Hampton
UID:e.1659.75380
SEQUENCE:3
DTSTAMP:20260423T005609Z
URL:https://calendar.goportsmouthnh.com/events/details/gundalow-co-science-cafe-horseshoe-crab-monitoring-75380
END:VEVENT

END:VCALENDAR
