BEGIN:VCALENDAR
VERSION:2.0
PRODID:-//ChamberMaster//Event Calendar 2.0//EN
METHOD:PUBLISH
X-PUBLISHED-TTL:P3D
REFRESH-INTERVAL:P3D
CALSCALE:GREGORIAN
BEGIN:VEVENT
DTSTART:20150212T230000Z
DTEND:20150213T010000Z
X-MICROSOFT-CDO-ALLDAYEVENT:FALSE
SUMMARY:Four Course Distillery Dinner
DESCRIPTION:ROBERTS MAINE GRILL & COLD RIVER DISTILLERY 4 COURSE DINNER Maine OYSTER Sampling pickled blueberries\, spicy serrano mignonette served with a Cold River Blueberry Vodka oyster shooter\, chili pepper mignonette\, horseradish\, Lost Woods hot sauce Parsnip SOUP topped with a seared scallop & crispy Maine potato sticks served with a Cold River Gin Basil Lime Maine-tini St. Elderflower liqueur\, fresh basil\, lime\, splash soda Braised PORK Shank Green Thumb potato pancake\, roasted Brussel sprouts and apples\, Cold River vodka pan jus served with Spiked Stout Cold River Vodka\, Moat Mountain Square Tail Stout Tres Leche CAKE caramel sauce served with Down-easter Coffee espresso infused Cold River Vodka\, chocolate\, Kahlua\, hot coffee\, topped with whip cream
X-ALT-DESC;FMTTYPE=text/html:ROBERTS MAINE GRILL &amp\; COLD RIVER DISTILLERY 4 COURSE DINNER Maine OYSTER Sampling pickled blueberries\, spicy serrano mignonette served with a Cold River Blueberry Vodka oyster shooter\, chili pepper mignonette\, horseradish\, Lost Woods hot sauce Parsnip SOUP topped with a seared scallop &amp\; crispy Maine potato sticks served with a Cold River Gin Basil Lime Maine-tini St. Elderflower liqueur\, fresh basil\, lime\, splash soda Braised PORK Shank Green Thumb potato pancake\, roasted Brussel sprouts and apples\, Cold River vodka pan jus served with Spiked Stout Cold River Vodka\, Moat Mountain Square Tail Stout Tres Leche CAKE caramel sauce served with Down-easter Coffee espresso infused Cold River Vodka\, chocolate\, Kahlua\, hot coffee\, topped with whip cream
LOCATION:Roberts Maine Grill 326 US Route 1 Kittery ME 03904
UID:e.1659.6280
SEQUENCE:3
DTSTAMP:20260420T014548Z
URL:https://calendar.goportsmouthnh.com/events/details/four-course-distillery-dinner-02-12-2015-6280
END:VEVENT

END:VCALENDAR
