BEGIN:VCALENDAR
VERSION:2.0
PRODID:-//ChamberMaster//Event Calendar 2.0//EN
METHOD:PUBLISH
X-PUBLISHED-TTL:P3D
REFRESH-INTERVAL:P3D
CALSCALE:GREGORIAN
BEGIN:VEVENT
DTSTART:20150215T190000Z
DTEND:20150215T230000Z
X-MICROSOFT-CDO-ALLDAYEVENT:FALSE
SUMMARY:Fire & Ice Bar Crawl
DESCRIPTION:Join us for the 2nd Annual Fire & Ice Bar Crawl! The crawl begins at The District  where you'll check in\, receive your wrist band\, and a map of where your crawl will take you. There will be a total of 6 locations.The crawl will end at 6pm at the Portsmouth Gas Light Co. where you will vote on the best cocktail of the day. Sign up now and enjoy this fun even in downtown Portsmouth!
X-ALT-DESC;FMTTYPE=text/html:Join us for the 2nd Annual Fire &amp\; Ice Bar Crawl! The crawl begins at <a href="http://thedistrictnh.com/">The District&nbsp\;</a>&nbsp\;where you&#39\;ll check in\, receive your wrist band\, and a map of where your crawl will take you. There will be a total of 6 locations.The crawl will end at 6pm at the<a href="http://www.portsmouthgaslight.com/"> Portsmouth Gas Light Co.</a> where you will vote on the best cocktail of the day.&nbsp\;Sign up now and enjoy this fun even in downtown Portsmouth!&nbsp\;
LOCATION:Check in at The District\, 2pm. Bar Crawl ends at the Portsmouth Gas Light at 6pm
UID:e.1659.6231
SEQUENCE:3
DTSTAMP:20260420T015020Z
URL:https://calendar.goportsmouthnh.com/events/details/fire-ice-bar-crawl-02-15-2015-6231
END:VEVENT

END:VCALENDAR
