BEGIN:VCALENDAR
VERSION:2.0
PRODID:-//ChamberMaster//Event Calendar 2.0//EN
METHOD:PUBLISH
X-PUBLISHED-TTL:P3D
REFRESH-INTERVAL:P3D
CALSCALE:GREGORIAN
BEGIN:VEVENT
DTSTART:20230114T170000Z
DTEND:20230115T010000Z
X-MICROSOFT-CDO-ALLDAYEVENT:FALSE
SUMMARY:FIBA 3X3 Basketball Tournament
DESCRIPTION:Looking for some Tournament Fun? Are you worthy of a title?\n\n \n\nLocated in Portsmouth NH at the Seacoast Hoops Lab - 141 Banfield Rd\, Unit 7\, Portsmouth.\n\n\n\nFast-paced\, exciting\, player-driven 3X3 tournament   the way 3X3 basketball should be played!\n\n \n\nWith a 10 min game clock and 21 points-to-win format\, a 12-second shot clock\, and no coaching allowed   this game is designed to be a literal hotbox of accelerated learning made for players that love non-stop action!\n\n \n\nOur tournaments our designed to be a basketball block party featuring music\, player introductions\, play-by-play commentary\, food\, and fun for players\, families\, and fans!\n\n\n\nRegister as an individual and be placed on a team - $30\n\nBring a team of 4 players for only $100\n\n (3 game minimum)\n\n \n\nRegistration is limited to 4 teams per age group\, so sign up soon!\n\nRegistration is NOT limited to just Play Practice clients\, anyone is welcome! \n\n \n\nAge Groups available: \n\n11U\n\n14U\n\n18U\n\nAdults\n\n \n\nClick here to sign up today! \n\nhttps://playpracticebasketball.com/leagues/#fiba-3x3
X-ALT-DESC;FMTTYPE=text/html:<div>Looking for some Tournament Fun? Are you worthy of a title?<br />\n&nbsp\;</div>\n\n<div>Located in Portsmouth NH at the Seacoast Hoops Lab - 141 Banfield Rd\, Unit 7\, Portsmouth.<br />\n<br />\nFast-paced\, exciting\, player-driven 3X3 tournament &ndash\; the way 3X3 basketball should be played!<br />\n&nbsp\;</div>\n\n<div>With a 10 min game clock and 21 points-to-win format\, a 12-second shot clock\, and no coaching allowed &ndash\; this game is designed to be a literal hotbox of accelerated learning made for players that love non-stop action!<br />\n&nbsp\;</div>\n\n<div>Our tournaments our designed to be a basketball block party featuring music\, player introductions\, play-by-play commentary\, food\, and fun for players\, families\, and fans!<br />\n<br />\nRegister as an individual and be placed on a team - $30</div>\n\n<div>Bring a team of 4 players for only $100<br />\n&nbsp\;(3 game minimum)<br />\n&nbsp\;</div>\n\n<div>Registration is limited to 4 teams per age group\, so sign up soon!<br />\nRegistration is NOT limited to just Play Practice clients\, anyone is welcome!&nbsp\;<br />\n&nbsp\;</div>\n\n<div>Age Groups available:&nbsp\;<br />\n11U<br />\n14U<br />\n18U<br />\nAdults<br />\n&nbsp\;</div>\n\n<div>Click here to sign up today!&nbsp\;</div>\n\n<div><a href="https://playpracticebasketball.com/leagues/#fiba-3x3">https://playpracticebasketball.com/leagues/#fiba-3x3</a></div>\n
LOCATION:Seacoast Hoops Lab 141 Banfield Rd\, Unit 7\, Portsmouth\, NH 03801
UID:e.1659.58477
SEQUENCE:3
DTSTAMP:20260419T180000Z
URL:https://calendar.goportsmouthnh.com/events/details/fiba-3x3-basketball-tournament-58477
END:VEVENT

END:VCALENDAR
