BEGIN:VCALENDAR
VERSION:2.0
PRODID:-//ChamberMaster//Event Calendar 2.0//EN
METHOD:PUBLISH
X-PUBLISHED-TTL:P3D
REFRESH-INTERVAL:P3D
CALSCALE:GREGORIAN
BEGIN:VEVENT
DTSTART:20240818T160000Z
DTEND:20240818T210000Z
X-MICROSOFT-CDO-ALLDAYEVENT:FALSE
SUMMARY:FESTIVAL: 10th Annual Portsmouth Food Truck & Craft Beer Festival @ Cisco Brewers
DESCRIPTION:Get ready to feast and sip in style! Join us for the electrifying 10th Annual Portsmouth Food Truck & Craft Beer Festival\, where over 20 of the hottest local food trucks will be serving up their mouthwatering fan favorites alongside the finest craft beer and cocktails from Cisco Brewers! Mark your calendars for Sunday\, August 18th\, from Noon to 5 PM (with VIP hour from 11 AM to Noon) as Food Truck Festivals of America returns to Cisco Brewers for an epic celebration of food\, drinks\, and fun!\n\n\n\nThis 2024 festival is set to be a daytime extravaganza\, complete with lawn games\, music\, and family-friendly activities. So\, grab your crew\, pack your lawn chairs and blankets\, and prepare to bask in the sunshine as you indulge in the ultimate culinary experience!
X-ALT-DESC;FMTTYPE=text/html:Get ready to feast and sip in style! Join us for the electrifying 10th Annual Portsmouth Food Truck &amp\; Craft Beer Festival\, where over 20 of the hottest local food trucks will be serving up their mouthwatering fan favorites alongside the finest craft beer and cocktails from Cisco Brewers! Mark your calendars for Sunday\, August 18th\, from Noon to 5 PM (with VIP hour from 11 AM to Noon) as Food Truck Festivals of America returns to Cisco Brewers for an epic celebration of food\, drinks\, and fun!<br />\n<br />\nThis 2024 festival is set to be a daytime extravaganza\, complete with lawn games\, music\, and family-friendly activities. So\, grab your crew\, pack your lawn chairs and blankets\, and prepare to bask in the sunshine as you indulge in the ultimate culinary experience!
LOCATION:Cisco Brewers Portsmouth\, 35 Corporate Drive\, Portsmouth
UID:e.1659.69109
SEQUENCE:3
DTSTAMP:20260419T180317Z
URL:https://calendar.goportsmouthnh.com/events/details/festival-10th-annual-portsmouth-food-truck-craft-beer-festival-cisco-brewers-69109
END:VEVENT

END:VCALENDAR
