BEGIN:VCALENDAR
VERSION:2.0
PRODID:-//ChamberMaster//Event Calendar 2.0//EN
METHOD:PUBLISH
X-PUBLISHED-TTL:P3D
REFRESH-INTERVAL:P3D
CALSCALE:GREGORIAN
BEGIN:VEVENT
DTSTART:20240810T150000Z
DTEND:20240810T170000Z
X-MICROSOFT-CDO-ALLDAYEVENT:FALSE
SUMMARY:FAMILY Coastal Critters Family Day
DESCRIPTION:Come to the Portsmouth Historical Society on August 10th to learn all about our magnificent oceans and the creatures that live there! We'll be welcoming educators from the Seacoast Science Center featuring coastal critters you can see and touch at 11am. We'll also have drop-in ocean-themed crafts and activities including making ocean slime and experimenting with how to clean up an oil spill. \n\nShows and activities will be outside on the lawn at the John Paul Jones House\, with a rain location across the street in the event space at 10 Middle Street.\n\nThis is a FREE program.
X-ALT-DESC;FMTTYPE=text/html:<p>Come to the Portsmouth Historical Society on August 10th to learn all about our magnificent oceans and the creatures that live there! We&rsquo\;ll be welcoming educators from the Seacoast Science Center featuring coastal critters you can see and touch at 11am. We&rsquo\;ll also have drop-in ocean-themed crafts and activities including making ocean slime and experimenting with how to clean up an oil spill.&nbsp\;</p>\n\n<p>Shows and activities will be outside on the lawn at the John Paul Jones House\, with a rain location across the street in the event space at 10 Middle Street.</p>\n\n<p>This is a FREE program.</p>\n
LOCATION:John Paul Jones House\, 43 Middle Street\, Portsmouth\, NH 03801
UID:e.1659.70423
SEQUENCE:3
DTSTAMP:20260419T192256Z
URL:https://calendar.goportsmouthnh.com/events/details/family-coastal-critters-family-day-70423
END:VEVENT

END:VCALENDAR
