BEGIN:VCALENDAR
VERSION:2.0
PRODID:-//ChamberMaster//Event Calendar 2.0//EN
METHOD:PUBLISH
X-PUBLISHED-TTL:P3D
REFRESH-INTERVAL:P3D
CALSCALE:GREGORIAN
BEGIN:VEVENT
DTSTART:20141020T130000Z
DTEND:20141024T203000Z
X-MICROSOFT-CDO-ALLDAYEVENT:FALSE
SUMMARY:Event at NBT Bank\, NA
DESCRIPTION:Fall Open House-Come meet the staff at NBT Bank at 77 Hanover Street in Portsmouth.  Each day will bring food\, fun\, prizes and more.  Visit the branch each day that week to receive additional entry to win a $100 Visa Gift Card.  Drawing to be held Friday October 24th. \n\n\n\nMonday-Money Sample Monday!  Who says banks don't give out free samples?\n\nTuesday-Tasty Tuesday\n\nWednesday-Wacky Fall Carnival Day!  Join us for fun food and prizes\n\nThursday-Thirsty Thursday!  Sample locally made ciders and more!\n\nFriday-Fantastic Friday Giveaway!  $100 Visa Gift Card winner to be chosen!
X-ALT-DESC;FMTTYPE=text/html:Fall Open House-Come meet the staff at NBT Bank at 77 Hanover Street in Portsmouth.&nbsp\; Each day will bring food\, fun\, prizes and more.&nbsp\; Visit the branch each day that week to receive additional entry to win a $100 Visa Gift Card.&nbsp\; Drawing to be held Friday October 24th.&nbsp\;<br />\n<br />\nMonday-Money Sample Monday!&nbsp\; Who says banks don&#39\;t give out free samples?<br />\nTuesday-Tasty Tuesday<br />\nWednesday-Wacky Fall Carnival Day!&nbsp\; Join us for fun food and prizes<br />\nThursday-Thirsty Thursday!&nbsp\; Sample locally made ciders and more!<br />\nFriday-Fantastic Friday Giveaway!&nbsp\; $100 Visa Gift Card winner to be chosen!
LOCATION:NBT Bank 77 Hanover Street Portsmouth\, NH 03801
UID:e.1659.3044
SEQUENCE:3
DTSTAMP:20260420T074031Z
URL:https://calendar.goportsmouthnh.com/events/details/event-at-nbt-bank-na-10-20-2014-3044
END:VEVENT

END:VCALENDAR
