BEGIN:VCALENDAR
VERSION:2.0
PRODID:-//ChamberMaster//Event Calendar 2.0//EN
METHOD:PUBLISH
X-PUBLISHED-TTL:P3D
REFRESH-INTERVAL:P3D
CALSCALE:GREGORIAN
BEGIN:VEVENT
DTSTART:20230128T230000Z
DTEND:20230129T020000Z
X-MICROSOFT-CDO-ALLDAYEVENT:FALSE
SUMMARY:Eric Andrew Jazz Quintet at Martingale Wharf
DESCRIPTION:
X-ALT-DESC;FMTTYPE=text/html:
LOCATION:Martingale Wharf 99 Bow Street Portsmouth\, NH 03801
UID:e.1659.58491
SEQUENCE:3
DTSTAMP:20260419T175852Z
URL:https://calendar.goportsmouthnh.com/events/details/eric-andrew-jazz-quintet-at-martingale-wharf-58491
END:VEVENT

END:VCALENDAR
