BEGIN:VCALENDAR
VERSION:2.0
PRODID:-//ChamberMaster//Event Calendar 2.0//EN
METHOD:PUBLISH
X-PUBLISHED-TTL:P3D
REFRESH-INTERVAL:P3D
CALSCALE:GREGORIAN
BEGIN:VEVENT
DTSTART:20141022T220000Z
DTEND:20141023T010000Z
X-MICROSOFT-CDO-ALLDAYEVENT:FALSE
SUMMARY:Dracula Dinner Theatre
DESCRIPTION:Dracula Dinner Theatre - join us for a 5 course dinner while being entertained by Vagabonds Productions and there adaptation of Bram Stokers "Dracula." Tickets on sale directly at the Silver Fountain Inn or the Dover Chamber of Commerce and are $75pp\, 20% of proceeds to go directly to Blue Latitudes and Kelley's Row. "Stay and play" packages available as well in one of our 8 elegant rooms\, all with private bath.
X-ALT-DESC;FMTTYPE=text/html:Dracula Dinner Theatre - join us for a 5 course dinner while being entertained by Vagabonds Productions and there adaptation of Bram Stokers &quot\;Dracula.&quot\; Tickets on sale directly at the Silver Fountain Inn or the Dover Chamber of Commerce and are $75pp\, 20% of proceeds to go directly to Blue Latitudes and Kelley&#39\;s Row. &quot\;Stay and play&quot\; packages available as well in one of our 8 elegant rooms\, all with private bath.
LOCATION:The Silver Fountain Inn Dover\, NH
UID:e.1659.3456
SEQUENCE:3
DTSTAMP:20260420T073804Z
URL:https://calendar.goportsmouthnh.com/events/details/dracula-dinner-theatre-10-22-2014-3456
END:VEVENT

END:VCALENDAR
