BEGIN:VCALENDAR
VERSION:2.0
PRODID:-//ChamberMaster//Event Calendar 2.0//EN
METHOD:PUBLISH
X-PUBLISHED-TTL:P3D
REFRESH-INTERVAL:P3D
CALSCALE:GREGORIAN
BEGIN:VEVENT
DTSTART:20220123T000000Z
DTEND:20220123T020000Z
X-MICROSOFT-CDO-ALLDAYEVENT:FALSE
SUMMARY:Comedy Night at SoMe Brewing Co
DESCRIPTION:Comedy Night is BACK at SoMe Brewing Company on Saturday January 22nd from 7pm-9pm!! Join us as we welcome Ian Stuart of "Welcome to Maine" to host the evening... and did we mention the show is FREE??!! We hope to see you there!!
X-ALT-DESC;FMTTYPE=text/html:<span style="color: rgb(5\, 5\, 5)\; font-family: &quot\;Segoe UI Historic&quot\;\, &quot\;Segoe UI&quot\;\, Helvetica\, Arial\, sans-serif\; font-size: 15px\;">Comedy Night is BACK at SoMe Brewing Company on Saturday January 22nd from 7pm-9pm!! Join us as we welcome Ian Stuart of &quot\;Welcome to Maine&quot\; to host the evening... and did we mention the show is FREE??!! We hope to see you there!!</span>
LOCATION:SoME Brewing Company 1 York St. Unit 3\, York ME
UID:e.1659.57125
SEQUENCE:3
DTSTAMP:20260425T103649Z
URL:https://calendar.goportsmouthnh.com/events/details/comedy-night-at-some-brewing-co-57125
END:VEVENT

END:VCALENDAR
