BEGIN:VCALENDAR
VERSION:2.0
PRODID:-//ChamberMaster//Event Calendar 2.0//EN
METHOD:PUBLISH
X-PUBLISHED-TTL:P3D
REFRESH-INTERVAL:P3D
CALSCALE:GREGORIAN
BEGIN:VEVENT
DTSTART:20220126T010000Z
DTEND:20220126T030000Z
X-MICROSOFT-CDO-ALLDAYEVENT:FALSE
SUMMARY:Citizen Cope
DESCRIPTION:Citizen Cope\, aka Clarence Greenwood\, is an American songwriter/producer. He has released seven studio LPs that have garnered him a loyal following despite never being fully embraced by mainstream media and commercial radio. Describing his music is difficult\, he's been inspired by artists such as John Lennon and Stevie Wonder to Bob Marley and Outkast. Citizen Cope's compositions have been recorded by Carlos Santana\, Dido\, and Richie Havens. In 20 years of touring\, he has built a devout following\, performing at sold out theaters and ballrooms across the country. Over time\, Cope's music has become the soundtrack to the lives of those who have embraced it and he continues to inspire audiences through what can only be described as deep personal connection.\n\n\n\nPlease Note   Effective Jan.\, 7\, 2022: Before entering the building\, everyone must wear masks\, per the City of Portsmouth mandate\, in addition to showing proof of vaccination OR a negative test for live events. Full details
X-ALT-DESC;FMTTYPE=text/html:<span style="font-size:14px\;"><span style="font-family:arial\;"><span style="color: rgb(72\, 72\, 72)\;">Citizen Cope\, aka Clarence Greenwood\, is an American songwriter/producer. He has released seven studio LPs that have garnered him a loyal following despite never being fully embraced by mainstream media and commercial radio. Describing his music is difficult\, he&rsquo\;s been inspired by artists such as John Lennon and Stevie Wonder to Bob Marley and Outkast. Citizen Cope&rsquo\;s compositions have been recorded by Carlos Santana\, Dido\, and Richie Havens. In 20 years of touring\, he has built a devout following\, performing at sold out theaters and ballrooms across the country. Over time\, Cope&rsquo\;s music has become the soundtrack to the lives of those who have embraced it and he continues to inspire audiences through what can only be described as deep personal connection.</span></span><br />\n<br />\n<span style="box-sizing: border-box\; font-weight: bolder\; font-family: minion-pro\, sans-serif\; color: rgb(72\, 72\, 72)\;">Please Note &ndash\; Effective Jan.\, 7\, 2022:</span><span style="color: rgb(72\, 72\, 72)\; font-family: minion-pro\, sans-serif\;">&nbsp\;Before entering the building\, everyone must wear masks\, per the City of Portsmouth mandate\, in addition to showing proof of vaccination OR a negative test for live events.&nbsp\;</span><a href="https://www.themusichall.org/visit-us/covid-19-protocols/" style="box-sizing: border-box\; color: rgb(144\, 99\, 205)\; text-decoration-line: none\; touch-action: manipulation\; transition: all 0.2s ease-in-out 0s\; font-family: minion-pro\, sans-serif\; font-size: 18px\;">Full details</a></span>
LOCATION:The Historic Theater 28 Chestnut Street Portsmouth\, NH 03801
UID:e.1659.57112
SEQUENCE:3
DTSTAMP:20260425T103528Z
URL:https://calendar.goportsmouthnh.com/events/details/citizen-cope-57112
END:VEVENT

END:VCALENDAR
