BEGIN:VCALENDAR
VERSION:2.0
PRODID:-//ChamberMaster//Event Calendar 2.0//EN
METHOD:PUBLISH
X-PUBLISHED-TTL:P3D
REFRESH-INTERVAL:P3D
CALSCALE:GREGORIAN
BEGIN:VEVENT
DTSTART:20150225T143000Z
DTEND:20150226T010000Z
X-MICROSOFT-CDO-ALLDAYEVENT:FALSE
SUMMARY:Chamber Ski Day
DESCRIPTION:Join us for the Chamber Ski Day at Shawnee Peak Maine this Wednesday! Tickets are just $19. All Chamber members\, friends and family are invited!
X-ALT-DESC;FMTTYPE=text/html:<span style="color: rgb(20\, 24\, 35)\; font-family: Helvetica\, Arial\, 'lucida grande'\, tahoma\, verdana\, arial\, sans-serif\; font-size: 14px\; line-height: 20px\;">Join us for the Chamber Ski Day at Shawnee Peak Maine this Wednesday! Tickets are just $19. All Chamber members\, friends and family are invited!&nbsp\;</span>
LOCATION:Shawnee Peak\, Bridgton\, Maine
UID:e.1659.6783
SEQUENCE:3
DTSTAMP:20260420T014628Z
URL:https://calendar.goportsmouthnh.com/events/details/chamber-ski-day-02-25-2015-6783
END:VEVENT

END:VCALENDAR
