BEGIN:VCALENDAR
VERSION:2.0
PRODID:-//ChamberMaster//Event Calendar 2.0//EN
METHOD:PUBLISH
X-PUBLISHED-TTL:P3D
REFRESH-INTERVAL:P3D
CALSCALE:GREGORIAN
BEGIN:VEVENT
DTSTART:20230520T190000Z
DTEND:20230520T230000Z
X-MICROSOFT-CDO-ALLDAYEVENT:FALSE
SUMMARY:CANCELLED Tall Sips Brewfest
DESCRIPTION:NOTE FROM MAY 15: Unfortunately\, the 2023 Tall Sips Brewfest has been cancelled. We want to thank all those who supported us by purchasing tickets. Refunds have been issued so please contact us if you haven't received yours. Stay tuned here for news about this year's Sail Portsmouth festival\, which will take place July 26 to 31. You can get tickets for tall ship tours and sails now at https://sailportsmouth.org/events/
X-ALT-DESC;FMTTYPE=text/html:<span style="color: rgb(5\, 5\, 5)\; font-family: system-ui\, -apple-system\, &quot\;system-ui&quot\;\, &quot\;.SFNSText-Regular&quot\;\, sans-serif\; font-size: 15px\; white-space: pre-wrap\;">NOTE FROM MAY 15: Unfortunately\, the 2023 Tall Sips Brewfest has been cancelled. We want to thank all those who supported us by purchasing tickets. Refunds have been issued so please contact us if you haven&#39\;t received yours. Stay tuned here for news about this year&#39\;s Sail Portsmouth festival\, which will take place July 26 to 31. You can get tickets for tall ship tours and sails now at </span><span style="font-family: system-ui\, -apple-system\, &quot\;system-ui&quot\;\, &quot\;.SFNSText-Regular&quot\;\, sans-serif\; color: rgb(5\, 5\, 5)\; font-size: 15px\; white-space: pre-wrap\;"><a class="x1i10hfl xjbqb8w x6umtig x1b1mbwd xaqea5y xav7gou x9f619 x1ypdohk xt0psk2 xe8uvvx xdj266r x11i5rnm xat24cr x1mh8g0r xexx8yu x4uap5 x18d9i69 xkhd6sd x16tdsg8 x1hl2dhg xggy1nq x1a2a7pz xt0b8zv x1fey0fg" href="https://sailportsmouth.org/events/?fbclid=IwAR21GyRyWz0L0LJ5K30EsrUzkwBp88BqFVwrL31liVrAk73x9Bw0zc5xWhc" rel="nofollow noopener" role="link" style="color: var(--blue-link)\; cursor: pointer\; text-decoration-line: none\; border-width: 0px\; border-style: initial\; border-color: initial\; outline: none\; list-style: none\; margin: 0px\; text-align: inherit\; padding: 0px\; -webkit-tap-highlight-color: transparent\; box-sizing: border-box\; touch-action: manipulation\; background-color: transparent\; display: inline\; font-family: inherit\;" tabindex="0" target="_blank">https://sailportsmouth.org/events/</a></span>
LOCATION:
UID:e.1659.60328
SEQUENCE:3
DTSTAMP:20260424T023228Z
URL:https://calendar.goportsmouthnh.com/events/details/cancelled-tall-sips-brewfest-60328
END:VEVENT

END:VCALENDAR
