BEGIN:VCALENDAR
VERSION:2.0
PRODID:-//ChamberMaster//Event Calendar 2.0//EN
METHOD:PUBLISH
X-PUBLISHED-TTL:P3D
REFRESH-INTERVAL:P3D
CALSCALE:GREGORIAN
BEGIN:VEVENT
DTSTART;VALUE=DATE:20220917
DTEND;VALUE=DATE:20220918
TRANSP:TRANSPARENT
X-MICROSOFT-CDO-ALLDAYEVENT:TRUE
SUMMARY:CAC 2nd Annual Charity Golf Tournament
DESCRIPTION:CAC 2nd Annual Golf Scramble\n\nContinuum Arts Collective presents its Second Annual Charitable Golf Scramble to benefit working-class families and their student artists and musicians in Maine and New Hampshire. This year\, we are moving our event to Pease Golf Course in Portsmouth\, NH. As part of the festivities\, we'll host an apres-scramble party featuring local musical magnates Truffle\, which is included in the price of the scramble. The after-party is also open to the public\, so you can invite your friends to join us after ($10 entry fee for non-golfers). Register today!\n\n\n	Date and Time: Saturday\, September 17. 7:00 a.m. registration\, 8:00 a.m. kickoff.\n	Location: Pease Golf Course 200 Grafton Road Portsmouth\, NH | Website\n	$150 per person or $500 per foursome team includes greens fees\, golf carts\, a goody bag\, lunch\, access to the driving range and putting green\, and the after-party. \n	First place is a golf destination prize package for four worth over $1000. \n	$10 for five mulligans (pay at check-in) \n	BYOC (bring your own clubs) or rent clubs\n	Teams that register before August 15\, will be entered to win four tickets to a CAC event of your choice.\n	Sponsor this Event - Check out our sponsorship options\n\n\nContests include:\n\n\n	Closest to the pin ($100 winner for men and ladies)\n	Hole in One Contest (Winner Prize TBD)\n	Longest Drive ($100 winner for men and ladies) \n	Most Honest/Worst Score ($25   no entry fee) \n	Chipping Contest ($100 for $10 entry)\n	Putting Contest ($100 for $10 entry)\n\nAbout CAC: Continuum Arts Collective assists working-class families and their student artists and musicians in Maine and New Hampshire by providing students with free musical instruments\, art supplies\, art and music lessons\, and experiences to flourish as creators.
X-ALT-DESC;FMTTYPE=text/html:<h1><a href="https://birdease.com/18235/register">CAC 2nd Annual Golf Scramble</a></h1>\n\n<p><span style="font-family:trebuchet ms\,geneva\,sans-serif">Continuum Arts Collective presents its Second Annual Charitable Golf Scramble to benefit working-class families and their student artists and musicians in Maine and New Hampshire. This year\, we are moving our event to Pease Golf Course in Portsmouth\, NH. As part of the festivities\, we&#39\;ll host an apres-scramble party featuring local musical magnates Truffle\, which is included in the price of the scramble. The after-party is also open to the public\, so you can invite your friends to join us after ($10 entry fee for non-golfers).&nbsp\;<a href="https://birdease.com/18235/register" style="box-sizing: border-box\; color: rgb(0\, 123\, 255)\; text-decoration: none\;">Register today!</a></span></p>\n\n<ul>\n	<li><span style="font-family:trebuchet ms\,geneva\,sans-serif">Date and Time: Saturday\, September 17. 7:00 a.m. registration\, 8:00 a.m. kickoff.</span></li>\n	<li><span style="font-family:trebuchet ms\,geneva\,sans-serif">Location: Pease Golf Course 200 Grafton Road Portsmouth\, NH |&nbsp\;<a href="https://www.peasegolf.com/" rel="noopener" style="box-sizing: border-box\; color: rgb(0\, 123\, 255)\; text-decoration: none\;" target="_blank">Website</a></span></li>\n	<li><span style="font-family:trebuchet ms\,geneva\,sans-serif">$150 per person or $500 per foursome team includes greens fees\, golf carts\, a goody bag\, lunch\, access to the driving range and putting green\, and the after-party.&nbsp\;</span></li>\n	<li><span style="font-family:trebuchet ms\,geneva\,sans-serif">First place is a golf destination prize package for four worth over $1000.&nbsp\;</span></li>\n	<li><span style="font-family:trebuchet ms\,geneva\,sans-serif">$10 for five mulligans (pay at check-in)&nbsp\;</span></li>\n	<li><span style="font-family:trebuchet ms\,geneva\,sans-serif">BYOC (bring your own clubs) or rent clubs</span></li>\n	<li><span style="font-family:trebuchet ms\,geneva\,sans-serif">Teams that&nbsp\;<a href="https://birdease.com/18235/register" style="box-sizing: border-box\; color: rgb(0\, 123\, 255)\; text-decoration: none\;">register</a>&nbsp\;before August 15\, will be entered to win four tickets to a CAC event of your choice.</span></li>\n	<li><span style="font-family:trebuchet ms\,geneva\,sans-serif"><a href="https://birdease.com/18235/sponsorships" style="box-sizing: border-box\; color: rgb(0\, 123\, 255)\; text-decoration: none\;">Sponsor this Event</a>&nbsp\;- Check out our sponsorship options</span></li>\n</ul>\n\n<p><span style="font-family:trebuchet ms\,geneva\,sans-serif">Contests include:</span></p>\n\n<ul>\n	<li><span style="font-family:trebuchet ms\,geneva\,sans-serif">Closest to the pin ($100 winner for men and ladies)</span></li>\n	<li><span style="font-family:trebuchet ms\,geneva\,sans-serif">Hole in One Contest (Winner Prize TBD)</span></li>\n	<li><span style="font-family:trebuchet ms\,geneva\,sans-serif">Longest Drive ($100 winner for men and ladies)&nbsp\;</span></li>\n	<li><span style="font-family:trebuchet ms\,geneva\,sans-serif">Most Honest/Worst Score ($25 &ndash\; no entry fee)&nbsp\;</span></li>\n	<li><span style="font-family:trebuchet ms\,geneva\,sans-serif">Chipping Contest ($100 for $10 entry)</span></li>\n	<li><span style="font-family:trebuchet ms\,geneva\,sans-serif">Putting Contest ($100 for $10 entry)</span></li>\n</ul>\n<span style="font-family:trebuchet ms\,geneva\,sans-serif">About CAC: Continuum Arts Collective assists working-class families and their student artists and musicians in Maine and New Hampshire by providing students with free musical instruments\, art supplies\, art and music lessons\, and experiences to flourish as creators.&nbsp\;</span>
LOCATION:Pease Golf Course 200 Grafton Road Portsmouth\, NH 03801 603-430-1331
UID:e.1659.57845
SEQUENCE:3
DTSTAMP:20260425T013326Z
URL:https://calendar.goportsmouthnh.com/events/details/cac-2nd-annual-charity-golf-tournament-57845
END:VEVENT

END:VCALENDAR
