BEGIN:VCALENDAR
VERSION:2.0
PRODID:-//ChamberMaster//Event Calendar 2.0//EN
METHOD:PUBLISH
X-PUBLISHED-TTL:P3D
REFRESH-INTERVAL:P3D
CALSCALE:GREGORIAN
BEGIN:VEVENT
DTSTART:20150226T210000Z
DTEND:20150227T040000Z
X-MICROSOFT-CDO-ALLDAYEVENT:FALSE
SUMMARY:Buenos Dias! Head to Margaritas and Support the Earth\, Sea & Space Center
DESCRIPTION:Please join us at Margaritas Mexican Restaurant\, 775 Lafayette Road in Portsmouth\, NH on Thursday\, February 26 from 4:00 to close. Margaritas will host a Noche Mexicana Fundraiser and donate 15% of pre-taxed food and beverage sales from participating families\, friends and supporters to the Earth\, Sea & Space Center. Guests can choose items from any of their menus\, takeout orders included!\n\n \n\nCall Ahead Seating is Available (603) 431-5828\n\n\n\nPlease share this invitation with friends\, family and community members. We will also be offering great raffle prizes!\n\n\n\nIf you have questions about this event\, please contact Crystal Kent at cryskent@earthlink.net or call (603) 742-0800.\n\n\n\nPlease make sure to let the host or server know that you are there to support the fundraiser\, so 15% of your pre-tax food and beverage purchases will be donated to the Earth\, Sea & Space Center.
X-ALT-DESC;FMTTYPE=text/html:<span style="font-family:calibri\,sans-serif\;">Please join us at Margaritas Mexican Restaurant\, 775 Lafayette Road in Portsmouth\, NH on Thursday\, February 26 from 4:00 to close. Margaritas will host a Noche Mexicana Fundraiser and donate 15% of pre-taxed food and beverage sales from participating families\, friends and supporters to the <span style="color:black\;">Earth\, Sea &amp\; Space Center</span>. Guests can choose items from any of their menus\, <span style="color:black\;">takeout orders included</span>!</span><br />\n&nbsp\;<br />\n<span style="font-family:calibri\,sans-serif\;">Call Ahead Seating is Available (603) 431-5828</span><br />\n<br />\n<span style="color:black\;"><span style="font-family:calibri\,sans-serif\;">Please share this invitation with friends\, family and community members. We will also be offering great raffle prizes!</span></span><br />\n<br />\n<span style="color:black\;"><span style="font-family:calibri\,sans-serif\;">If you have questions about this event\, please contact <strong><em>Crystal Kent at <a href="mailto:cryskent@earthlink.net">cryskent@earthlink.net</a> or call (603) 742-0800.</em></strong></span></span><br />\n<br />\n<span style="color:black\;"><span style="font-family:calibri\,sans-serif\;">Please make sure to let the host or server know that you are there to support </span></span><span style="font-family:calibri\,sans-serif\;">the fundraiser\,<span style="color:black\;"> so 15% of your pre-tax food and beverage purchases will be donated to </span>the <span style="color:black\;">Earth\, Sea &amp\; Space Center</span>.</span>
LOCATION:Margaritas Mexican Restaurant\, 775 Lafayette Road in Portsmouth\, NH.
UID:e.1659.6764
SEQUENCE:3
DTSTAMP:20260420T015337Z
URL:https://calendar.goportsmouthnh.com/events/details/buenos-dias-head-to-margaritas-and-support-the-earth-sea-space-center-02-26-2015-6764
END:VEVENT

END:VCALENDAR
