BEGIN:VCALENDAR
VERSION:2.0
PRODID:-//ChamberMaster//Event Calendar 2.0//EN
METHOD:PUBLISH
X-PUBLISHED-TTL:P3D
REFRESH-INTERVAL:P3D
CALSCALE:GREGORIAN
BEGIN:VEVENT
DTSTART:20240822T233000Z
DTEND:20240823T013000Z
X-MICROSOFT-CDO-ALLDAYEVENT:FALSE
SUMMARY:MUSIC: Billy Price Band
DESCRIPTION:Blues Music Award-Winning Singer & Songwriter BILLY PRICE and his Band weave a tapestry of Blues and R&B\, promising an unforgettable night of heartfelt vocals & timeless musicality. Price has been Nominated 3 times for "Soul Blues Album of the Year" (2016\, 2019\, 2020) at the Blues Music Awards - Winning the Award in 2016! Price was recently Nominated for the 2023 Blues Music Award for "Soul Blues Male Artist of the Year". Price first attracted national attention during his 3 year association with guitarist Roy Buchanan. Since then\, he has recorded and released 17 acclaimed albums. Price's album\, 'This Time for Real' (2015)\, with the late Chicago soul singer Otis Clay\, won the 2016 Blues Music Award for "Soul Blues Album of the Year". His 2018 album 'Reckoning' and 2019 album 'Dog Eat Dog' were both Nominated for "Soul Blues Album of the Year". Band includes: DAVE DODD (Drums)\, TOM VALENTINE (Bass)\, LENNY SMITH (Guitar)\, JIM BRITTON (Keys)\, ERIC SPAULDING (Sax)\, & JOE HERNDON (Trumpet).
X-ALT-DESC;FMTTYPE=text/html:&nbsp\;Blues Music Award-Winning Singer &amp\; Songwriter BILLY PRICE and his Band weave a tapestry of Blues and R&amp\;B\, promising an unforgettable night of heartfelt vocals &amp\; timeless musicality. Price has been Nominated 3 times for &quot\;Soul Blues Album of the Year&quot\; (2016\, 2019\, 2020) at the Blues Music Awards - Winning the Award in 2016! Price was recently Nominated for the 2023 Blues Music Award for &quot\;Soul Blues Male Artist of the Year&quot\;. Price first attracted national attention during his 3 year association with guitarist Roy Buchanan. Since then\, he has recorded and released 17 acclaimed albums. Price&#39\;s album\, &#39\;This Time for Real&#39\; (2015)\, with the late Chicago soul singer Otis Clay\, won the 2016 Blues Music Award for &quot\;Soul Blues Album of the Year&quot\;. His 2018 album &#39\;Reckoning&#39\; and 2019 album &#39\;Dog Eat Dog&#39\; were both Nominated for &quot\;Soul Blues Album of the Year&quot\;. Band includes: DAVE DODD (Drums)\, TOM VALENTINE (Bass)\, LENNY SMITH (Guitar)\, JIM BRITTON (Keys)\, ERIC SPAULDING (Sax)\, &amp\; JOE HERNDON (Trumpet).
LOCATION:Jimmy's Jazz & Blues Club 135 Congress St. Portsmouth N.H. 03801
UID:e.1659.69012
SEQUENCE:3
DTSTAMP:20260419T204534Z
URL:https://calendar.goportsmouthnh.com/events/details/billy-price-band-69012
END:VEVENT

END:VCALENDAR
