BEGIN:VCALENDAR
VERSION:2.0
PRODID:-//ChamberMaster//Event Calendar 2.0//EN
METHOD:PUBLISH
X-PUBLISHED-TTL:P3D
REFRESH-INTERVAL:P3D
CALSCALE:GREGORIAN
BEGIN:VEVENT
DTSTART:20230422T140000Z
DTEND:20230430T200000Z
X-MICROSOFT-CDO-ALLDAYEVENT:FALSE
SUMMARY:Baby Animals: Heritage Breeds at the Banke
DESCRIPTION:Saturday\, April 22 Sunday\, April 30\, 2023\, 10-4 PM Rain or shine under a heated tent. Public ticket sales begin on Monday\, March 20\, 2023\, at 10 AM.\n\n\n\nLearn about domestic livestock typical on coastal northern New England farms from the 17th century to the present day at this family-friendly and educational event. Peter Cook\, Guest Event Curator\, and expert breeders from NH\, ME\, MA\, and NY farms answer visitors' questions about the rare heritage breeds\, their care\, developmental needs\, and more. Petting is not allowed for the animals' and visitors' health and safety. Additionally\, watch demonstrations such as weaving. On Sundays\, April 23 & 30\, Dan Smith\, Restoration Assistant and Museum Beekeeper\, performs a honey extraction demonstration in the Lawrence J. Yerdon Visitor Center Lecture Hall from 11 AM to 2 PM. Demonstrations are included with event tickets. Pickwick's at the Banke\, the Museum store\, and Liberty Fare Dining are open during the event.\n\n\n\nMembers (ages 1+): $5 or free depending on membership level   Nonmembers (ages 1+): $10   Children under 1: free\, ticket required
X-ALT-DESC;FMTTYPE=text/html:Saturday\, April 22&ndash\;Sunday\, April 30\, 2023\, 10-4 PM Rain or shine under a heated tent. Public ticket sales begin on Monday\, March 20\, 2023\, at 10 AM.<br />\n<br />\nLearn about domestic livestock typical on coastal northern New England farms from the 17th century to the present day at this family-friendly and educational event. Peter Cook\, Guest Event Curator\, and expert breeders from NH\, ME\, MA\, and NY farms answer visitors&rsquo\; questions about the rare heritage breeds\, their care\, developmental needs\, and more. Petting is not allowed for the animals&#39\; and visitors&#39\; health and safety. Additionally\, watch demonstrations such as weaving. On Sundays\, April 23 &amp\; 30\, Dan Smith\, Restoration Assistant and Museum Beekeeper\, performs a honey extraction demonstration in the Lawrence J. Yerdon Visitor Center Lecture Hall from 11 AM to 2 PM. Demonstrations are included with event tickets. Pickwick&#39\;s at the Banke\, the Museum store\, and Liberty Fare Dining are open during the event.<br />\n<br />\nMembers (ages 1+): $5 or free depending on membership level &bull\; Nonmembers (ages 1+): $10 &bull\; Children under 1: free\, ticket required
LOCATION:Strawbery Banke Museum 14 Hancock St.\, Portsmouth
UID:e.1659.59051
SEQUENCE:3
DTSTAMP:20260420T230905Z
URL:https://calendar.goportsmouthnh.com/events/details/baby-animals-heritage-breeds-at-the-banke-04-22-2023-59051
END:VEVENT

END:VCALENDAR
