BEGIN:VCALENDAR
VERSION:2.0
PRODID:-//ChamberMaster//Event Calendar 2.0//EN
METHOD:PUBLISH
X-PUBLISHED-TTL:P3D
REFRESH-INTERVAL:P3D
CALSCALE:GREGORIAN
BEGIN:VEVENT
DTSTART:20150218T210000Z
DTEND:20150219T030000Z
X-MICROSOFT-CDO-ALLDAYEVENT:FALSE
SUMMARY:A Night of Giving at Martingale Wharf
DESCRIPTION:Join the\n\nKomen NH Race for the Cure for A Night of Giving Back at Martingale Wharf \n\n\n10% of all Food Sales that night will be donated to the NH Race for the Cure.\n\n\n\nEveryone who attends the event will receive a $5 off coupon towards registration to the Komen NH Race for the Cure.\n\n\n\nAlready registered for the Race?  Receive a special thank you gift from us to show our appreciation for your early registration!\n\nTo register for the Race\, please go to www.komenvtnh.org.
X-ALT-DESC;FMTTYPE=text/html:<div style="text-align: center\;"><span style="font-size:32pt"><span style="font-family:century gothic\,sans-serif"><span style="color:rgb(198\, 0\, 111)">Join the<br />\nKomen NH Race for the Cure for A Night of Giving Back at Martingale Wharf </span></span></span></div>\n<br />\n<span style="font-size:11pt"><span style="font-family:century gothic\,sans-serif">10% of all Food Sales that night will be donated to the NH Race for the Cure.</span></span><br />\n<br />\n<span style="font-size:11pt"><span style="font-family:century gothic\,sans-serif">Everyone who attends the event will receive a $5 off coupon towards registration to the Komen NH Race for the Cure.</span></span><br />\n<br />\n<span style="font-size:11pt"><span style="font-family:century gothic\,sans-serif">Already registered for the Race?&nbsp\; Receive a special thank you gift from us to show our appreciation for your early registration!</span></span><br />\nTo register for the Race\, please go to <a href="http://www.komenvtnh.org">www.komenvtnh.org</a>.&nbsp\;<br />\n&nbsp\;
LOCATION:Martingale Wharf 99 Bow St. Portsmouth\, NH 03801 www.martingalewharf.com
UID:e.1659.6772
SEQUENCE:3
DTSTAMP:20260420T015208Z
URL:https://calendar.goportsmouthnh.com/events/details/a-night-of-giving-at-martingale-wharf-02-18-2015-6772
END:VEVENT

END:VCALENDAR
