BEGIN:VCALENDAR
VERSION:2.0
PRODID:-//ChamberMaster//Event Calendar 2.0//EN
METHOD:PUBLISH
X-PUBLISHED-TTL:P3D
REFRESH-INTERVAL:P3D
CALSCALE:GREGORIAN
BEGIN:VEVENT
DTSTART:20141023T123000Z
DTEND:20141023T200000Z
X-MICROSOFT-CDO-ALLDAYEVENT:FALSE
SUMMARY:15th Erik Cogswell Memorial Conference
DESCRIPTION:In its continued effort to provide resources to the community\, Seacoast Mental Health Center (SMHC) will offer 5 Continuing Education Credits (CEUs) to professionals\, including providers and educators\, at the 15th Erik Cogswell Memorial Conference. This year?s theme is ?Trauma: The Relationship to Mental Health and Recovery.? Cheryl Sharp\, senior advisor for trauma-informed services for the National Council for Behavioral Health\, will serve as keynote speaker. A sampling of other speakers include Mark Gilbertson\, Ph.D\, Manchester VA Medical Center\; Martha Robb\, Ph.D\, Dartmouth School of Medicine\; and SMHC?s John Miller\, M.D. The 15th Erik Cogswell Memorial Conference will take place on Thursday\, October 23 at the Harbor Events & Conference Center in Portsmouth. Consumers and family members may register for $35. Registration is $140\, which includes 5 CEUs for professionals who request them. Continental breakfast and lunch are included. For more information or to register online\, visit www.cogswellconference.com.
X-ALT-DESC;FMTTYPE=text/html:In its continued effort to provide resources to the community\, Seacoast Mental Health Center (SMHC) will offer 5 Continuing Education Credits (CEUs) to professionals\, including providers and educators\, at the 15th Erik Cogswell Memorial Conference. This year?s theme is ?Trauma: The Relationship to Mental Health and Recovery.? Cheryl Sharp\, senior advisor for trauma-informed services for the National Council for Behavioral Health\, will serve as keynote speaker. A sampling of other speakers include Mark Gilbertson\, Ph.D\, Manchester VA Medical Center\; Martha Robb\, Ph.D\, Dartmouth School of Medicine\; and SMHC?s John Miller\, M.D. The 15th Erik Cogswell Memorial Conference will take place on Thursday\, October 23 at the Harbor Events &amp\; Conference Center in Portsmouth. Consumers and family members may register for $35. Registration is $140\, which includes 5 CEUs for professionals who request them. Continental breakfast and lunch are included. For more information or to register online\, visit www.cogswellconference.com.
LOCATION:Portsmouth Harbor Events and Conference Center\, 100 Deer St. at Portwalk Place in Portsmouth\, NH
UID:e.1659.2981
SEQUENCE:3
DTSTAMP:20260420T074200Z
URL:https://calendar.goportsmouthnh.com/events/details/15th-erik-cogswell-memorial-conference-10-23-2014-2981
END:VEVENT

END:VCALENDAR
